BEGIN:VCALENDAR
VERSION:2.0
PRODID:-//Chicago Community Gardeners Association - ECPv6.15.16//NONSGML v1.0//EN
CALSCALE:GREGORIAN
METHOD:PUBLISH
X-ORIGINAL-URL:http://chicagocommunitygardens.org
X-WR-CALDESC:Events for Chicago Community Gardeners Association
REFRESH-INTERVAL;VALUE=DURATION:PT1H
X-Robots-Tag:noindex
X-PUBLISHED-TTL:PT1H
BEGIN:VTIMEZONE
TZID:America/Chicago
BEGIN:DAYLIGHT
TZOFFSETFROM:-0600
TZOFFSETTO:-0500
TZNAME:CDT
DTSTART:20240310T080000
END:DAYLIGHT
BEGIN:STANDARD
TZOFFSETFROM:-0500
TZOFFSETTO:-0600
TZNAME:CST
DTSTART:20241103T070000
END:STANDARD
BEGIN:DAYLIGHT
TZOFFSETFROM:-0600
TZOFFSETTO:-0500
TZNAME:CDT
DTSTART:20250309T080000
END:DAYLIGHT
BEGIN:STANDARD
TZOFFSETFROM:-0500
TZOFFSETTO:-0600
TZNAME:CST
DTSTART:20251102T070000
END:STANDARD
BEGIN:DAYLIGHT
TZOFFSETFROM:-0600
TZOFFSETTO:-0500
TZNAME:CDT
DTSTART:20260308T080000
END:DAYLIGHT
BEGIN:STANDARD
TZOFFSETFROM:-0500
TZOFFSETTO:-0600
TZNAME:CST
DTSTART:20261101T070000
END:STANDARD
END:VTIMEZONE
BEGIN:VEVENT
DTSTART;TZID=America/Chicago:20251219T120000
DTEND;TZID=America/Chicago:20251219T160000
DTSTAMP:20260425T063151
CREATED:20251201T200024Z
LAST-MODIFIED:20251201T202612Z
UID:37443-1766145600-1766160000@chicagocommunitygardens.org
SUMMARY:Balance Sheets Workshop - Chatham
DESCRIPTION:Farm Balance Sheets\nFriday December 19\, 2025\nin person at 8753 S. Greenwood\, Suite 100\, Chicago\, IL 60619from 12 noon – 1 pm\nBring your lunch to our office and enjoy a 60-minute lunchtime presentation covering the what\, why and how of farm balance sheets. Participants will receive a spreadsheet template & have the opportunity to contribute to a group learning activity.  \n1 – 4 pm \nAn optional guided work session follows the noon presentation. You will have the opportunity to input your own data into an Excel template\, share results\, and/or discuss solutions to problems that may be revealed after completing the balance sheet. Instructors and students will collectively brainstorm solutions. Light snacks & coffee/tea provided. Bring your laptop\, a brown bag lunch\, and farm data for this afternoon work session.  \n\n\nCost: There is no cost to attend\, we just ask that you pre-register: https://registration.extension.illinois.edu/start/farm-balance-sheets \n\n\nInstructor: Kathryn Pereira\, Extension Educators\, Local Food Systems and Small Farms.  \nIf you have any questions or to request a reasonable accommodation to participate\, please contact Sarah 217-300-8636 or sbatka@illinois.edu
URL:http://chicagocommunitygardens.org/event/balance-sheets-workshop-chatham/
LOCATION:U of I Extension Chicago office\, 8753 S Greenwood #100\, Chicago\, IL\, 60619\, United States
ORGANIZER;CN="University of Illinois Extension - Cook Co":MAILTO:uie-cook@illinois.edu
END:VEVENT
BEGIN:VEVENT
DTSTART;TZID=America/Chicago:20251219T180000
DTEND;TZID=America/Chicago:20251219T200000
DTSTAMP:20260425T063151
CREATED:20251216T220709Z
LAST-MODIFIED:20251216T220709Z
UID:37450-1766167200-1766174400@chicagocommunitygardens.org
SUMMARY:AGA Avondale Almanac Premiere Event
DESCRIPTION:Come celebrate our 3rd annual AGA Avondale Almanac + Wall Calendar release! Yule is the perfect time to pick up your 2026 Almanac and start dreaming of 2026 garden plans.  Friday 12/19 @ 6-8p at Revolution Brewing. \nOur fully local made by neighbors Alma is 80 color pages including comprehensive planting calendar\, weekly suggestions to keep up with your garden chores\, local photos + nature facts\, and so much more! This is our 4th edition and every year gets better thru hard work of of neighbors!  Last year the theme was SOIL\, this year ROOTS\, next… STEMS!
URL:http://chicagocommunitygardens.org/event/aga-avondale-almanac-premiere-event/
LOCATION:Revolution Brewing – Brewery & Taproom\, 3340 N Kedzie Ave\, Chicago\, IL\, 60618\, United States
ORGANIZER;CN="Avondale Gardening Alliance":MAILTO:avondalegardeners@gmail.com
END:VEVENT
END:VCALENDAR