BEGIN:VCALENDAR
VERSION:2.0
PRODID:-//Chicago Community Gardeners Association - ECPv6.15.16//NONSGML v1.0//EN
CALSCALE:GREGORIAN
METHOD:PUBLISH
X-ORIGINAL-URL:http://chicagocommunitygardens.org
X-WR-CALDESC:Events for Chicago Community Gardeners Association
REFRESH-INTERVAL;VALUE=DURATION:PT1H
X-Robots-Tag:noindex
X-PUBLISHED-TTL:PT1H
BEGIN:VTIMEZONE
TZID:America/Chicago
BEGIN:DAYLIGHT
TZOFFSETFROM:-0600
TZOFFSETTO:-0500
TZNAME:CDT
DTSTART:20140309T080000
END:DAYLIGHT
BEGIN:STANDARD
TZOFFSETFROM:-0500
TZOFFSETTO:-0600
TZNAME:CST
DTSTART:20141102T070000
END:STANDARD
BEGIN:DAYLIGHT
TZOFFSETFROM:-0600
TZOFFSETTO:-0500
TZNAME:CDT
DTSTART:20150308T080000
END:DAYLIGHT
BEGIN:STANDARD
TZOFFSETFROM:-0500
TZOFFSETTO:-0600
TZNAME:CST
DTSTART:20151101T070000
END:STANDARD
BEGIN:DAYLIGHT
TZOFFSETFROM:-0600
TZOFFSETTO:-0500
TZNAME:CDT
DTSTART:20160313T080000
END:DAYLIGHT
BEGIN:STANDARD
TZOFFSETFROM:-0500
TZOFFSETTO:-0600
TZNAME:CST
DTSTART:20161106T070000
END:STANDARD
END:VTIMEZONE
BEGIN:VEVENT
DTSTART;TZID=America/Chicago:20150912T120000
DTEND;TZID=America/Chicago:20150912T160000
DTSTAMP:20260421T112107
CREATED:20150828T170922Z
LAST-MODIFIED:20150828T170922Z
UID:18511-1442059200-1442073600@chicagocommunitygardens.org
SUMMARY:Tomato Fest
DESCRIPTION:Join local food and gardening advocates as we highlight the many ways you can enjoy your bountiful tomato harvest all year long. \nThe Chicago Park District\, Slow Food Midwest Ark of Taste Committee\, Illinois Extension Master Gardeners and the Greater Midwest Foodways Alliance will be on hand to highlight the many ways we can prepare and preserve a taste of summer throughout the year. \nJoin us for a day full of Tomato Love\, including a special guest lecture by Jennifer Jordan\, author of Edible Memory: The Lure of Heirloom Tomatoes and Other Forgotten Foods\, as well as tours\, tastings\, a cookbook swap\, workshops\, demos\, a salsa dance class and a homemade salsa contest! \nThis event is free and open to the public!
URL:http://chicagocommunitygardens.org/event/tomato-fest-2/
LOCATION:Kilbourn Park Organic Greenhouse\, 3501 N. Kilbourn\, Chicago\, IL\, 60641\, United States
CATEGORIES:Social,Tour
ATTACH;FMTTYPE=image/jpeg:http://chicagocommunitygardens.org/wp-content/uploads/2015/08/TF2015.jpg
ORGANIZER;CN="Chicago Park District":MAILTO:communitygardens@chicagoparkdistrict.com
END:VEVENT
END:VCALENDAR