BEGIN:VCALENDAR
VERSION:2.0
PRODID:-//Chicago Community Gardeners Association - ECPv6.15.16//NONSGML v1.0//EN
CALSCALE:GREGORIAN
METHOD:PUBLISH
X-ORIGINAL-URL:http://chicagocommunitygardens.org
X-WR-CALDESC:Events for Chicago Community Gardeners Association
REFRESH-INTERVAL;VALUE=DURATION:PT1H
X-Robots-Tag:noindex
X-PUBLISHED-TTL:PT1H
BEGIN:VTIMEZONE
TZID:America/Chicago
BEGIN:DAYLIGHT
TZOFFSETFROM:-0600
TZOFFSETTO:-0500
TZNAME:CDT
DTSTART:20140309T080000
END:DAYLIGHT
BEGIN:STANDARD
TZOFFSETFROM:-0500
TZOFFSETTO:-0600
TZNAME:CST
DTSTART:20141102T070000
END:STANDARD
BEGIN:DAYLIGHT
TZOFFSETFROM:-0600
TZOFFSETTO:-0500
TZNAME:CDT
DTSTART:20150308T080000
END:DAYLIGHT
BEGIN:STANDARD
TZOFFSETFROM:-0500
TZOFFSETTO:-0600
TZNAME:CST
DTSTART:20151101T070000
END:STANDARD
BEGIN:DAYLIGHT
TZOFFSETFROM:-0600
TZOFFSETTO:-0500
TZNAME:CDT
DTSTART:20160313T080000
END:DAYLIGHT
BEGIN:STANDARD
TZOFFSETFROM:-0500
TZOFFSETTO:-0600
TZNAME:CST
DTSTART:20161106T070000
END:STANDARD
END:VTIMEZONE
BEGIN:VEVENT
DTSTART;TZID=America/Chicago:20150502T080000
DTEND;TZID=America/Chicago:20150502T110000
DTSTAMP:20260424T075519
CREATED:20150423T211017Z
LAST-MODIFIED:20150424T164737Z
UID:17334-1430553600-1430564400@chicagocommunitygardens.org
SUMMARY:South Merrill Community Garden - Work Day
DESCRIPTION:NOTE: This garden day has been rescheduled from 4/25 to 5/2. \nWe look forward to another successful planting season at the South Merrill Community Garden and collaborating with our neighbors that want to see the garden grow and thrive. Join us this Saturday\, May 2nd alongside Genesis Co-op members and the South Shore United Methodist Church.
URL:http://chicagocommunitygardens.org/event/south-merrill-community-garden-work-day/
LOCATION:South Merrill Community Garden\, 7302 S Merrill\, Chicago\, IL\, United States
CATEGORIES:Workday
ATTACH;FMTTYPE=image/jpeg:http://chicagocommunitygardens.org/wp-content/uploads/2015/04/south-merrill-community-garden.jpg
ORGANIZER;CN="Lois Morrow":MAILTO:morrowlois@ymail.com
END:VEVENT
END:VCALENDAR