BEGIN:VCALENDAR
VERSION:2.0
PRODID:-//Chicago Community Gardeners Association - ECPv6.15.16//NONSGML v1.0//EN
CALSCALE:GREGORIAN
METHOD:PUBLISH
X-WR-CALNAME:Chicago Community Gardeners Association
X-ORIGINAL-URL:https://chicagocommunitygardens.org
X-WR-CALDESC:Events for Chicago Community Gardeners Association
REFRESH-INTERVAL;VALUE=DURATION:PT1H
X-Robots-Tag:noindex
X-PUBLISHED-TTL:PT1H
BEGIN:VTIMEZONE
TZID:America/Chicago
BEGIN:DAYLIGHT
TZOFFSETFROM:-0600
TZOFFSETTO:-0500
TZNAME:CDT
DTSTART:20250309T080000
END:DAYLIGHT
BEGIN:STANDARD
TZOFFSETFROM:-0500
TZOFFSETTO:-0600
TZNAME:CST
DTSTART:20251102T070000
END:STANDARD
BEGIN:DAYLIGHT
TZOFFSETFROM:-0600
TZOFFSETTO:-0500
TZNAME:CDT
DTSTART:20260308T080000
END:DAYLIGHT
BEGIN:STANDARD
TZOFFSETFROM:-0500
TZOFFSETTO:-0600
TZNAME:CST
DTSTART:20261101T070000
END:STANDARD
BEGIN:DAYLIGHT
TZOFFSETFROM:-0600
TZOFFSETTO:-0500
TZNAME:CDT
DTSTART:20270314T080000
END:DAYLIGHT
BEGIN:STANDARD
TZOFFSETFROM:-0500
TZOFFSETTO:-0600
TZNAME:CST
DTSTART:20271107T070000
END:STANDARD
END:VTIMEZONE
BEGIN:VEVENT
DTSTART;TZID=America/Chicago:20260314T120000
DTEND;TZID=America/Chicago:20260314T150000
DTSTAMP:20260424T001042
CREATED:20260310T165319Z
LAST-MODIFIED:20260310T165319Z
UID:37601-1773489600-1773500400@chicagocommunitygardens.org
SUMMARY:Tree/Shrub Distribution - East Side
DESCRIPTION:Bare Root Tree-Shrub Distribution\nSat March 14\, Noon – 3pm\nGeorge Washington High School 3535 E 114th St. Chicago\, west front lawn\nPecan\, Chinese Chestnut\, Hazelnut\, American Plum\, Elderberry\nReserve your trees here
URL:https://chicagocommunitygardens.org/event/tree-shrub-distribution-east-side/
LOCATION:George Washington High School\, 3535 E 114th Street\, Chicago\, IL\, 60617\, United States
END:VEVENT
END:VCALENDAR