BEGIN:VCALENDAR
VERSION:2.0
PRODID:-//Chicago Community Gardeners Association - ECPv6.15.16//NONSGML v1.0//EN
CALSCALE:GREGORIAN
METHOD:PUBLISH
X-ORIGINAL-URL:https://chicagocommunitygardens.org
X-WR-CALDESC:Events for Chicago Community Gardeners Association
REFRESH-INTERVAL;VALUE=DURATION:PT1H
X-Robots-Tag:noindex
X-PUBLISHED-TTL:PT1H
BEGIN:VTIMEZONE
TZID:America/Chicago
BEGIN:DAYLIGHT
TZOFFSETFROM:-0600
TZOFFSETTO:-0500
TZNAME:CDT
DTSTART:20250309T080000
END:DAYLIGHT
BEGIN:STANDARD
TZOFFSETFROM:-0500
TZOFFSETTO:-0600
TZNAME:CST
DTSTART:20251102T070000
END:STANDARD
BEGIN:DAYLIGHT
TZOFFSETFROM:-0600
TZOFFSETTO:-0500
TZNAME:CDT
DTSTART:20260308T080000
END:DAYLIGHT
BEGIN:STANDARD
TZOFFSETFROM:-0500
TZOFFSETTO:-0600
TZNAME:CST
DTSTART:20261101T070000
END:STANDARD
BEGIN:DAYLIGHT
TZOFFSETFROM:-0600
TZOFFSETTO:-0500
TZNAME:CDT
DTSTART:20270314T080000
END:DAYLIGHT
BEGIN:STANDARD
TZOFFSETFROM:-0500
TZOFFSETTO:-0600
TZNAME:CST
DTSTART:20271107T070000
END:STANDARD
END:VTIMEZONE
BEGIN:VEVENT
DTSTART;TZID=America/Chicago:20260322T140000
DTEND;TZID=America/Chicago:20260322T153000
DTSTAMP:20260423T222245
CREATED:20260306T154431Z
LAST-MODIFIED:20260306T154431Z
UID:37593-1774188000-1774193400@chicagocommunitygardens.org
SUMMARY:Lecture: Nathan Barrett – Pullman’s Landscaper
DESCRIPTION:The Historic Pullman Garden Club and Friends of Pullman invite you (and your friends & neighbors) to the third scheduled Winter Lecture event at the Florence Lowden Miller Center\, 614 E 113th St\, Chicago IL.  On Sunday March 22nd\, 2026\, at 2pm\, Pullman Garden Club member Andreas Morgen will present “Nathan Barrett – Pullman’s Landscaper”\, a talk about the man who designed the gardens of Pullman\, the Hotel Ponce de Leon in Florida\, and the Naumkeag estate in Stockbridge\, Massachusetts. The program is free\, and everyone is welcome. Refreshments will be served.   \nFor updates or to add to your calendar\, visit https://www.facebook.com/events/898683466113147
URL:https://chicagocommunitygardens.org/event/lecture-nathan-barrett-pullmans-landscaper/
ORGANIZER;CN="Historic Pullman Garden Club":MAILTO:historicpullmangardens@gmail.com
END:VEVENT
END:VCALENDAR