BEGIN:VCALENDAR
VERSION:2.0
PRODID:-//Chicago Community Gardeners Association - ECPv6.15.16//NONSGML v1.0//EN
CALSCALE:GREGORIAN
METHOD:PUBLISH
X-WR-CALNAME:Chicago Community Gardeners Association
X-ORIGINAL-URL:https://chicagocommunitygardens.org
X-WR-CALDESC:Events for Chicago Community Gardeners Association
REFRESH-INTERVAL;VALUE=DURATION:PT1H
X-Robots-Tag:noindex
X-PUBLISHED-TTL:PT1H
BEGIN:VTIMEZONE
TZID:America/Chicago
BEGIN:DAYLIGHT
TZOFFSETFROM:-0600
TZOFFSETTO:-0500
TZNAME:CDT
DTSTART:20250309T080000
END:DAYLIGHT
BEGIN:STANDARD
TZOFFSETFROM:-0500
TZOFFSETTO:-0600
TZNAME:CST
DTSTART:20251102T070000
END:STANDARD
BEGIN:DAYLIGHT
TZOFFSETFROM:-0600
TZOFFSETTO:-0500
TZNAME:CDT
DTSTART:20260308T080000
END:DAYLIGHT
BEGIN:STANDARD
TZOFFSETFROM:-0500
TZOFFSETTO:-0600
TZNAME:CST
DTSTART:20261101T070000
END:STANDARD
BEGIN:DAYLIGHT
TZOFFSETFROM:-0600
TZOFFSETTO:-0500
TZNAME:CDT
DTSTART:20270314T080000
END:DAYLIGHT
BEGIN:STANDARD
TZOFFSETFROM:-0500
TZOFFSETTO:-0600
TZNAME:CST
DTSTART:20271107T070000
END:STANDARD
END:VTIMEZONE
BEGIN:VEVENT
DTSTART;TZID=America/Chicago:20260329T130000
DTEND;TZID=America/Chicago:20260329T160000
DTSTAMP:20260423T183136
CREATED:20260306T162654Z
LAST-MODIFIED:20260306T162850Z
UID:37595-1774789200-1774800000@chicagocommunitygardens.org
SUMMARY:Grafting Workshop - Glencoe
DESCRIPTION:Find out what grafting fruit trees is all about.  Learn the whys and hows with experienced grafters.  A variety of member donated scion wood will be available.  The purpose of the grafting workshop is to learn how to graft. Nonmember beginners will learn how to graft selected apple varieties on apple rootstock.  \nIf you’d like more information about grafting see the Grafting Page. \n Sunday March 29\, 2026 \, 1:00 pm to 4:00 pm. THIS SESSION IS OPEN TO THE PUBLIC and the less experienced or novice grafter. Please arrive on time. Lecture begins at 1:00 sharp. \nChicago Botanic Garden 1000 Lake Cook Road\, Glencoe\, Illinois.  Go to the Linnaeus Room in the Regenstein Center building. \nRootstock is $6 each\, Cash only. \nNo Pre-Registration Necessary
URL:https://chicagocommunitygardens.org/event/grafting-workshop-glencoe/
LOCATION:Chicago Botanic Garden\, 1000 Lake Cook Rd\, Glencoe\, IL\, 60022\, United States
END:VEVENT
END:VCALENDAR