BEGIN:VCALENDAR
VERSION:2.0
PRODID:-//Chicago Community Gardeners Association - ECPv6.15.16//NONSGML v1.0//EN
CALSCALE:GREGORIAN
METHOD:PUBLISH
X-WR-CALNAME:Chicago Community Gardeners Association
X-ORIGINAL-URL:https://chicagocommunitygardens.org
X-WR-CALDESC:Events for Chicago Community Gardeners Association
REFRESH-INTERVAL;VALUE=DURATION:PT1H
X-Robots-Tag:noindex
X-PUBLISHED-TTL:PT1H
BEGIN:VTIMEZONE
TZID:America/Chicago
BEGIN:DAYLIGHT
TZOFFSETFROM:-0600
TZOFFSETTO:-0500
TZNAME:CDT
DTSTART:20240310T080000
END:DAYLIGHT
BEGIN:STANDARD
TZOFFSETFROM:-0500
TZOFFSETTO:-0600
TZNAME:CST
DTSTART:20241103T070000
END:STANDARD
BEGIN:DAYLIGHT
TZOFFSETFROM:-0600
TZOFFSETTO:-0500
TZNAME:CDT
DTSTART:20250309T080000
END:DAYLIGHT
BEGIN:STANDARD
TZOFFSETFROM:-0500
TZOFFSETTO:-0600
TZNAME:CST
DTSTART:20251102T070000
END:STANDARD
BEGIN:DAYLIGHT
TZOFFSETFROM:-0600
TZOFFSETTO:-0500
TZNAME:CDT
DTSTART:20260308T080000
END:DAYLIGHT
BEGIN:STANDARD
TZOFFSETFROM:-0500
TZOFFSETTO:-0600
TZNAME:CST
DTSTART:20261101T070000
END:STANDARD
END:VTIMEZONE
BEGIN:VEVENT
DTSTART;TZID=America/Chicago:20250520T180000
DTEND;TZID=America/Chicago:20250520T190000
DTSTAMP:20260419T164321
CREATED:20250112T000504Z
LAST-MODIFIED:20250508T175615Z
UID:36866-1747764000-1747767600@chicagocommunitygardens.org
SUMMARY:May CCGA Coordinating Meeting
DESCRIPTION:Please join us for our monthly coordinating meeting. Representatives from all the working groups come together to coordinate our actions. All community gardeners and supporters are invited to attend. \nCCGA coordinating meetings are held on the 3rd Tuesday of the month\, except for July & August.  \nThe May 20 Coordinating Meeting will be hybrid on Zoom and in person at Chicago Public Library – Richard M Daley branch\, 733 N Kedzie Ave\, Chicago\, IL 60612  from 6 – 7 pm.  \nTo Join Virtually:\nhttps://us02web.zoom.us/j/82680460687?pwd=YlJjbFdDUjVwMWp4Sm5FbytrUjhiUT09\nMeeting ID: 826 8046 0687\nPasscode: CCGA \nDial in number:   312 626 6799 US (Chicago)\nMeeting ID: 826 8046 0687\nPasscode: 412128 \nIf you want to attend the coordinating meeting and are not already a member of one of the CCGA working groups\, please send an email to: communications@chicagocommunitygardens.org and request to join the monthly meetings. \nNOTE: All CCGA coordinating meeting minutes are available for you to review on the website. Look under the menu tree at ‘Who We Are’ and then ‘CCGA Organization’ and you will see links here for the coordinating committee documents by year.
URL:https://chicagocommunitygardens.org/event/may-ccga-coordinating-meeting-5/
CATEGORIES:Meeting/Conference
END:VEVENT
END:VCALENDAR