BEGIN:VCALENDAR
VERSION:2.0
PRODID:-//Chicago Community Gardeners Association - ECPv6.15.16//NONSGML v1.0//EN
CALSCALE:GREGORIAN
METHOD:PUBLISH
X-WR-CALNAME:Chicago Community Gardeners Association
X-ORIGINAL-URL:https://chicagocommunitygardens.org
X-WR-CALDESC:Events for Chicago Community Gardeners Association
REFRESH-INTERVAL;VALUE=DURATION:PT1H
X-Robots-Tag:noindex
X-PUBLISHED-TTL:PT1H
BEGIN:VTIMEZONE
TZID:America/Chicago
BEGIN:DAYLIGHT
TZOFFSETFROM:-0600
TZOFFSETTO:-0500
TZNAME:CDT
DTSTART:20130310T080000
END:DAYLIGHT
BEGIN:STANDARD
TZOFFSETFROM:-0500
TZOFFSETTO:-0600
TZNAME:CST
DTSTART:20131103T070000
END:STANDARD
BEGIN:DAYLIGHT
TZOFFSETFROM:-0600
TZOFFSETTO:-0500
TZNAME:CDT
DTSTART:20140309T080000
END:DAYLIGHT
BEGIN:STANDARD
TZOFFSETFROM:-0500
TZOFFSETTO:-0600
TZNAME:CST
DTSTART:20141102T070000
END:STANDARD
BEGIN:DAYLIGHT
TZOFFSETFROM:-0600
TZOFFSETTO:-0500
TZNAME:CDT
DTSTART:20150308T080000
END:DAYLIGHT
BEGIN:STANDARD
TZOFFSETFROM:-0500
TZOFFSETTO:-0600
TZNAME:CST
DTSTART:20151101T070000
END:STANDARD
END:VTIMEZONE
BEGIN:VEVENT
DTSTART;TZID=America/Chicago:20140628T080000
DTEND;TZID=America/Chicago:20140628T160000
DTSTAMP:20260423T105722
CREATED:20140523T155737Z
LAST-MODIFIED:20140523T160908Z
UID:657-1403942400-1403971200@chicagocommunitygardens.org
SUMMARY:Chicago Botanic Garden School Gardening Conference
DESCRIPTION:Professional Development Opportunity for Educators \nOn June 28\, 2014\, the Chicago Botanic Garden is hosting the 16th School Gardening Conference “Next Generation of School Gardening”\, for all grade levels. This conference provides an inspiring showcase of presentations\, from tips to starting a new garden\, to ways to make the garden a vital part of the curriculum.  This year’s conference will focus on connecting gardening to Next Generation Science Standards\, and incorporating into classroom curriculum. Please forward the link below onto any teacher\, administrator\, librarian\, informal educator\, or anyone else who may be interested. \nhttp://us4.campaign-archive1.com/?u=b8d5a8ce718556733498bee3e&id=f18245d20d&e=f9bb6078e7
URL:https://chicagocommunitygardens.org/event/summer-professional-development-opportunity-for-educators/
CATEGORIES:Meeting/Conference,Workshop/Lecture
ATTACH;FMTTYPE=image/jpeg:https://chicagocommunitygardens.org/wp-content/uploads/2014/05/school_gardening_conference.jpg
END:VEVENT
END:VCALENDAR