BEGIN:VCALENDAR
VERSION:2.0
PRODID:-//Chicago Community Gardeners Association - ECPv6.15.16//NONSGML v1.0//EN
CALSCALE:GREGORIAN
METHOD:PUBLISH
X-ORIGINAL-URL:https://chicagocommunitygardens.org
X-WR-CALDESC:Events for Chicago Community Gardeners Association
REFRESH-INTERVAL;VALUE=DURATION:PT1H
X-Robots-Tag:noindex
X-PUBLISHED-TTL:PT1H
BEGIN:VTIMEZONE
TZID:America/Chicago
BEGIN:DAYLIGHT
TZOFFSETFROM:-0600
TZOFFSETTO:-0500
TZNAME:CDT
DTSTART:20240310T080000
END:DAYLIGHT
BEGIN:STANDARD
TZOFFSETFROM:-0500
TZOFFSETTO:-0600
TZNAME:CST
DTSTART:20241103T070000
END:STANDARD
BEGIN:DAYLIGHT
TZOFFSETFROM:-0600
TZOFFSETTO:-0500
TZNAME:CDT
DTSTART:20250309T080000
END:DAYLIGHT
BEGIN:STANDARD
TZOFFSETFROM:-0500
TZOFFSETTO:-0600
TZNAME:CST
DTSTART:20251102T070000
END:STANDARD
BEGIN:DAYLIGHT
TZOFFSETFROM:-0600
TZOFFSETTO:-0500
TZNAME:CDT
DTSTART:20260308T080000
END:DAYLIGHT
BEGIN:STANDARD
TZOFFSETFROM:-0500
TZOFFSETTO:-0600
TZNAME:CST
DTSTART:20261101T070000
END:STANDARD
END:VTIMEZONE
BEGIN:VEVENT
DTSTART;TZID=America/Chicago:20250112T130000
DTEND;TZID=America/Chicago:20250112T150000
DTSTAMP:20260420T105754
CREATED:20241215T191054Z
LAST-MODIFIED:20241215T191054Z
UID:36796-1736686800-1736694000@chicagocommunitygardens.org
SUMMARY:Native Plant Seed Swap and Giveaway
DESCRIPTION:Come join us for a day of learning about natives. Just starting out? Come learn why natives are important and how to garden with them\, and get free seeds. Have an established garden? Share your seeds and your knowledge.We’ll have stations on site prep\, winter sowing\, and master gardeners to help with plant selection. We’ll also have a spot to pick up extra plastic pots or drop off ones you don’t need.\n \nQuestions about donations/swapping:\nQ: How do I bring seeds if I want to swap or pass mine out?Best practice for swapping would be smaller packets labeled with Latin and common names.But if you threw milkweed pods or flower heads in well labeled ziplock or paper bags\, that’s great too. (Just remember plastic isn’t best when the seeds are still drying).And while we try to clean up the seeds as much as we can\, we don’t have the machinery to make the seeds look as perfect as they do when you buy them so expect some chaff in the packets. And we wouldn’t expect your seeds to look perfect either. There will be extra tables to set up for swapping and chatting.\nQ: I want to donate seeds but I don’t have time for the swap. What container should they be in? How to drop off?If freshly picked\, a paper bag/breathable bag would be best so seeds can dry. If older\, shouldn’t matter.Please label\, ideally with the Latin name. Please no cultivars or general names like “Rubeckia”.(However\, we did accept a large bag of aster seeds last year because she knew it was one of three native species she collected but forgot to label the bag at the time. These seeds go to a friend that’s converting farm land to prairie)How much you want to put into it is up to you. We rather you give us whole coneflowers heads than nothing at all\, but we appreciate the people that give us clean seeds.You can drop off at the event even if you don’t plan to swap or stay.\n \nhttps://www.schaumburglibrary.org/events?id=12076440
URL:https://chicagocommunitygardens.org/event/native-plant-seed-swap-and-giveaway/
LOCATION:Schaumburg Library\, 130 S Roselle Rd\, Schaumburg\, IL\, 60193\, United States
CATEGORIES:Plant Distribution/Swap
END:VEVENT
END:VCALENDAR