BEGIN:VCALENDAR
VERSION:2.0
PRODID:-//Chicago Community Gardeners Association - ECPv6.15.16//NONSGML v1.0//EN
CALSCALE:GREGORIAN
METHOD:PUBLISH
X-ORIGINAL-URL:https://chicagocommunitygardens.org
X-WR-CALDESC:Events for Chicago Community Gardeners Association
REFRESH-INTERVAL;VALUE=DURATION:PT1H
X-Robots-Tag:noindex
X-PUBLISHED-TTL:PT1H
BEGIN:VTIMEZONE
TZID:America/Chicago
BEGIN:DAYLIGHT
TZOFFSETFROM:-0600
TZOFFSETTO:-0500
TZNAME:CDT
DTSTART:20240310T080000
END:DAYLIGHT
BEGIN:STANDARD
TZOFFSETFROM:-0500
TZOFFSETTO:-0600
TZNAME:CST
DTSTART:20241103T070000
END:STANDARD
BEGIN:DAYLIGHT
TZOFFSETFROM:-0600
TZOFFSETTO:-0500
TZNAME:CDT
DTSTART:20250309T080000
END:DAYLIGHT
BEGIN:STANDARD
TZOFFSETFROM:-0500
TZOFFSETTO:-0600
TZNAME:CST
DTSTART:20251102T070000
END:STANDARD
BEGIN:DAYLIGHT
TZOFFSETFROM:-0600
TZOFFSETTO:-0500
TZNAME:CDT
DTSTART:20260308T080000
END:DAYLIGHT
BEGIN:STANDARD
TZOFFSETFROM:-0500
TZOFFSETTO:-0600
TZNAME:CST
DTSTART:20261101T070000
END:STANDARD
END:VTIMEZONE
BEGIN:VEVENT
DTSTART;TZID=America/Chicago:20250426T100000
DTEND;TZID=America/Chicago:20250426T130000
DTSTAMP:20260421T104941
CREATED:20250215T150433Z
LAST-MODIFIED:20250407T174655Z
UID:36991-1745661600-1745672400@chicagocommunitygardens.org
SUMMARY:Earth Day Celebration & Seed Swap - Austin
DESCRIPTION:Celebrate the Earth this year with BUILD Chicago. This FREE\, family friendly event will feature a seed swap\, resource fair\, One Earth Collective film screening\, DJ\, Bike Raffle and fix it clinic\, Cooking Demo\, art projects and more! \nThe 11 am film screening of Cafeteria Man requires separate registration: https://www.eventbrite.com/e/cafeteria-man-build-chicago-tickets-1260018251509 \nContact Kesiah Bascom at kesiahbascom@buildchciago.org for more information.  \n  \n 
URL:https://chicagocommunitygardens.org/event/earth-day-celebration-seed-swap/
LOCATION:BUILD Chicago\, 5100 W Harrison Street\, Chicago\, IL\, 60644\, United States
CATEGORIES:Plant Distribution/Swap,Social
END:VEVENT
BEGIN:VEVENT
DTSTART;TZID=America/Chicago:20250510T100000
DTEND;TZID=America/Chicago:20250511T150000
DTSTAMP:20260421T104941
CREATED:20250410T131646Z
LAST-MODIFIED:20250410T131646Z
UID:37097-1746871200-1746975600@chicagocommunitygardens.org
SUMMARY:Garden-Ready Yard Plant Sale
DESCRIPTION:Join us for a special backyard plant sale in the heart of historic Norwood Park! Not only can you pick up vibrant\, homegrown plants\, but you’ll also get a rare chance to explore a sustainable urban garden—including a passive solar greenhouse and lush perennial gardens. \n📍 Location: Norwood Park\, Chicago \n📅 Date & Time: Saturday May 10th & Sunday May 11th from 10-3pm daily \n💰 Payment: Cash\, Venmo\, Zelle \nWhat’s Available? \n🌿 Vegetable Seedlings – Strong\, locally grown starts for your edible garden! \n🌸 Flowering Plants – Bring beauty to your space with pollinator-friendly blooms! \n🌱 Fresh Herbs – Perfect for your kitchen or container garden! \nEverything is grown sustainably and chemical-free right here in my backyard. This is more than just a plant sale—it’s a mini garden tour where you can explore how a small urban space can become a thriving backyard grocery store. \nCome for the plants\, stay for the garden inspiration!
URL:https://chicagocommunitygardens.org/event/garden-ready-yard-plant-sale/
LOCATION:My Clever Garden Chicago\, 5837 N Newark Ave Chicago\, IL\, Chicago\, IL\, 60631-3142\, United States
CATEGORIES:Plant Distribution/Swap
ORGANIZER;CN="Randall Elliott":MAILTO:randall.311iott@gmail.com
END:VEVENT
END:VCALENDAR