BEGIN:VCALENDAR
VERSION:2.0
PRODID:-//Chicago Community Gardeners Association - ECPv6.15.16//NONSGML v1.0//EN
CALSCALE:GREGORIAN
METHOD:PUBLISH
X-WR-CALNAME:Chicago Community Gardeners Association
X-ORIGINAL-URL:https://chicagocommunitygardens.org
X-WR-CALDESC:Events for Chicago Community Gardeners Association
REFRESH-INTERVAL;VALUE=DURATION:PT1H
X-Robots-Tag:noindex
X-PUBLISHED-TTL:PT1H
BEGIN:VTIMEZONE
TZID:America/Chicago
BEGIN:DAYLIGHT
TZOFFSETFROM:-0600
TZOFFSETTO:-0500
TZNAME:CDT
DTSTART:20130310T080000
END:DAYLIGHT
BEGIN:STANDARD
TZOFFSETFROM:-0500
TZOFFSETTO:-0600
TZNAME:CST
DTSTART:20131103T070000
END:STANDARD
BEGIN:DAYLIGHT
TZOFFSETFROM:-0600
TZOFFSETTO:-0500
TZNAME:CDT
DTSTART:20140309T080000
END:DAYLIGHT
BEGIN:STANDARD
TZOFFSETFROM:-0500
TZOFFSETTO:-0600
TZNAME:CST
DTSTART:20141102T070000
END:STANDARD
BEGIN:DAYLIGHT
TZOFFSETFROM:-0600
TZOFFSETTO:-0500
TZNAME:CDT
DTSTART:20150308T080000
END:DAYLIGHT
BEGIN:STANDARD
TZOFFSETFROM:-0500
TZOFFSETTO:-0600
TZNAME:CST
DTSTART:20151101T070000
END:STANDARD
END:VTIMEZONE
BEGIN:VEVENT
DTSTART;TZID=America/Chicago:20140503T100000
DTEND;TZID=America/Chicago:20140503T140000
DTSTAMP:20260419T164204
CREATED:20140523T155148Z
LAST-MODIFIED:20140523T160723Z
UID:670-1399111200-1399125600@chicagocommunitygardens.org
SUMMARY:Seedling sales and Workdays at the Howard Street Farm
DESCRIPTION:*ATTENTION: In response to requests\, we have added a non-Saturday date for Seedling Sales. We will be selling seedlings this coming Sunday\, May 25th from 10 am to 2 pm.* \nChoose local\, lovingly\, and organically-grown seedlings for your garden this year. The Talking Farm will offer 21 different varieties of home-grown seedlings at our sales at the Howard Street Farm\, starting with cold weather hardy varieties then moving on to warm weather varieties as spring progresses (update: warm weather seedlings now available).\ \nSales run on the Saturdays between May 3rd and June 7th\, and on Sunday\, May 25th\, from 10 am to 2 pm. Each seedling sale date will also be a work day\, so feel free to get your hands dirty and shop at the same time! \nOur selection of cool weather seedlings includes: \npeas\, kale\, bok choy\, cabbage\, leeks\, oregano\, parsley\, sage\, fennel\, red and yellow seed potatoes\, and raspberry and strawberry plants. \nOur selection of warm weather seedlings includes: \ntomatoes\, peppers\, eggplant\, cucumber\, zucchini\, melon\, basil\, thyme\, dill\, rosemary and other herbs \nSeedling sales support The Talking Farm. \nDetails:\n2014 Seedling Sales at The Howard Street Farm\n3669 Howard St.\, Skokie\n(behind the Tot Learning Center)\n10 am – 2 pm\nSaturdays\, May 3 – June 7; Sunday\, May 25
URL:https://chicagocommunitygardens.org/event/seedling-sales-and-workdays-at-the-howard-street-farm/
LOCATION:The Howard Street Farm\, 3669 Howard St\, Skokie\, IL\, United States
CATEGORIES:Sale,Workday
ATTACH;FMTTYPE=image/jpeg:https://chicagocommunitygardens.org/wp-content/uploads/2014/05/5677742736_5f49be69d9.jpg
ORGANIZER;CN="The Talking Farm":MAILTO:info@thetalkingfarm.org
END:VEVENT
BEGIN:VEVENT
DTSTART;TZID=America/Chicago:20140504T090000
DTEND;TZID=America/Chicago:20140504T140000
DTSTAMP:20260419T164204
CREATED:20140424T161027Z
LAST-MODIFIED:20140424T161027Z
UID:552-1399194000-1399212000@chicagocommunitygardens.org
SUMMARY:Flowers to the People Spring Plant Sale
DESCRIPTION:Click here to preorder plants. \nOutside the Glenwood Sunday Market\, Glenwood between Morse and Lunt \nCome shop for flowering annuals\, hanging baskets\, vegetables and more at the RPGG Spring Plant Sale\, with proceeds benefitting the Adopt the Public Way grants program.  Shop early for the best selection!
URL:https://chicagocommunitygardens.org/event/flowers-to-the-people-spring-plant-sale/
LOCATION:Glenwood Sunday Market\, 6930 N Glenwood\, Chicago\, IL\, United States
CATEGORIES:Sale
ATTACH;FMTTYPE=image/jpeg:https://chicagocommunitygardens.org/wp-content/uploads/2014/04/flowerstothepeople.jpg
ORGANIZER;CN="Rogers Park Garden Group":MAILTO:rpgardengroup@gmail.com.
END:VEVENT
BEGIN:VEVENT
DTSTART;TZID=America/Chicago:20140509T100000
DTEND;TZID=America/Chicago:20140509T160000
DTSTAMP:20260419T164204
CREATED:20140502T194133Z
LAST-MODIFIED:20140502T195100Z
UID:573-1399629600-1399651200@chicagocommunitygardens.org
SUMMARY:Peterson Garden Project Plant Sale / Bake Sale
DESCRIPTION:All proceeds from the sale will benefit Peterson Garden Project learning programs. Seedlings will be locally-grown\, heirloom herb and vegetable varietals hand-selected by Peterson Garden Project for growing in Chicago. Seeds from Seed Savers Exchange will also be for sale. Baked goods will be hand made from local Chicago pastry chefs and bakeries. \nFri\, May 9- 10am-4pm \nSat\, May 10- 10am-4pm \nSun\, May 11- 12pm-4pm – Mother’s Day special- we’ll be pouring wine on Sunday\, May 11th! \nThere is no cost for admission. Cash and credit cards will be accepted. BYOB! (Bring Your Own Bag) – We ask that you please bring your own bags/trays for carrying your seedlings home.  \nHere is the selection of heirloom seedlings we’ll have at the sale: \nTomatoes\nBlack Sea Man\nNebraska Wedding\nBlondkopfchen\nMexico Midget\nAunt Ruby’s German Green\nMortgage Lifter\nRosso Sicilian\nSheboygan \nTomatillos\nDr. Wyche’s Yellow\nPurple De Milpa \nPeppers\nMiniature Chocolate Bell\nTolli’s Sweet Italian\nAncho Gigantea Poblano\nBeaver Dam\nWenk’s Yellow Hots\nMaule’s Red Hots \nEggplant\nDiamond\nPingtung Long\nListada De Gandia \nKale\nLacinato\nRed Russian \nAunt Molly’s Ground Cherry \nHerbs\nBasil (Genovese\, Mrs. Burn’s Lemon\, Purple Dark Opal)\nChives (regular\, garlic)\nCilantro\nDill\nParsley\nThyme\nSage\nRosemary \nWe’ll also have an extensive selection of SEEDS from Seed Savers Exchange\, as well as POTATO STARTS! For all our beginning gardeners\, we will have plenty of expert gardeners walking around to help answer your questions and guide you through your decision process. It will be like having a personal shopper! \nAnd\, thanks to an overwhelming response from local home bakers and professional pastry chefs\, our bake sale is going to be the best one yet! Word on the street is local pastry chef Amanda Rockman is donating some of her widely popular basque cakes for the sale! Click here to learn why Chicagoans can’t get enough of this cake. \nDo yourself a favor and bring your mom on Sunday\, buy her a hard to find heirloom seedling\, and a cake. We’ll be pouring wine on Mother’s Day as well\, thanks to our friends at Lindeman’s. Basically\, you don’t want to miss out on this incredible sale. We’ll see you there! \nVolunteers Needed to help at the sale! \nWe need lots of volunteer help! Tasks vary from cashier and merchandise sales\, to greeters and bake sale attendees. CLICK HERE TO SIGN UP! \nInterested in donating to our bake sale? Please e-mail lindsay@petersongarden.org.
URL:https://chicagocommunitygardens.org/event/peterson-garden-project-plant-sale-bake-sale/
LOCATION:Peterson Garden Project Learning center\, 4642 N. Francisco Ave\, Chicago\, IL\, 60625\, United States
CATEGORIES:Sale,Volunteer Opp.
ATTACH;FMTTYPE=image/jpeg:https://chicagocommunitygardens.org/wp-content/uploads/2014/05/pgp_logo.jpg
END:VEVENT
BEGIN:VEVENT
DTSTART;TZID=America/Chicago:20140510T100000
DTEND;TZID=America/Chicago:20140510T150000
DTSTAMP:20260419T164204
CREATED:20140421T182329Z
LAST-MODIFIED:20140424T161846Z
UID:528-1399716000-1399734000@chicagocommunitygardens.org
SUMMARY:Paseo Prairie Garden Plant Sale
DESCRIPTION:Annual Paseo Prairie Garden’s Mother’s Day Plant Sale \n\nNative Illinois Perennials\nOther Perennials\nMontalbano Farms Organic Vegetables and Herbs\n\nAll proceeds go for maintenance and support of the Paseo Prairie Garden. \nSponsored by Friends of the Paseo Prairie Garden.
URL:https://chicagocommunitygardens.org/event/paseo-prairie-garden-plant-sale/
LOCATION:2614 North Kedzie @ Milwaukee Intersection\, 2614 North Kedzie Ave\, Chicago\, IL\, United States
CATEGORIES:Sale
ATTACH;FMTTYPE=image/jpeg:https://chicagocommunitygardens.org/wp-content/uploads/2014/04/paseo-prairie-garden.jpg
END:VEVENT
BEGIN:VEVENT
DTSTART;TZID=America/Chicago:20140511T120000
DTEND;TZID=America/Chicago:20140511T160000
DTSTAMP:20260419T164204
CREATED:20140502T194133Z
LAST-MODIFIED:20140508T174542Z
UID:579-1399809600-1399824000@chicagocommunitygardens.org
SUMMARY:Peterson Garden Project Plant Sale / Bake Sale
DESCRIPTION:All proceeds from the sale will benefit Peterson Garden Project learning programs. Seedlings will be locally-grown\, heirloom herb and vegetable varietals hand-selected by Peterson Garden Project for growing in Chicago. Seeds from Seed Savers Exchange will also be for sale. Baked goods will be hand made from local Chicago pastry chefs and bakeries. \nFri\, May 9- 10am-4pm \nSat\, May 10- 10am-4pm \nSun\, May 11- 12pm-4pm – Mother’s Day special- we’ll be pouring wine on Sunday\, May 11th! \nThere is no cost for admission. Cash and credit cards will be accepted. BYOB! (Bring Your Own Bag) – We ask that you please bring your own bags/trays for carrying your seedlings home.  \nHere is the selection of heirloom seedlings we’ll have at the sale: \nTomatoes\nBlack Sea Man\nNebraska Wedding\nBlondkopfchen\nMexico Midget\nAunt Ruby’s German Green\nMortgage Lifter\nRosso Sicilian\nSheboygan \nTomatillos\nDr. Wyche’s Yellow\nPurple De Milpa \nPeppers\nMiniature Chocolate Bell\nTolli’s Sweet Italian\nAncho Gigantea Poblano\nBeaver Dam\nWenk’s Yellow Hots\nMaule’s Red Hots \nEggplant\nDiamond\nPingtung Long\nListada De Gandia \nKale\nLacinato\nRed Russian \nAunt Molly’s Ground Cherry \nHerbs\nBasil (Genovese\, Mrs. Burn’s Lemon\, Purple Dark Opal)\nChives (regular\, garlic)\nCilantro\nDill\nParsley\nThyme\nSage\nRosemary \nWe’ll also have an extensive selection of SEEDS from Seed Savers Exchange\, as well as POTATO STARTS! For all our beginning gardeners\, we will have plenty of expert gardeners walking around to help answer your questions and guide you through your decision process. It will be like having a personal shopper! \nAnd\, thanks to an overwhelming response from local home bakers and professional pastry chefs\, our bake sale is going to be the best one yet! Word on the street is local pastry chef Amanda Rockman is donating some of her widely popular basque cakes for the sale! Click here to learn why Chicagoans can’t get enough of this cake. \nDo yourself a favor and bring your mom on Sunday\, buy her a hard to find heirloom seedling\, and a cake. We’ll be pouring wine on Mother’s Day as well\, thanks to our friends at Lindeman’s. Basically\, you don’t want to miss out on this incredible sale. We’ll see you there! \nVolunteers Needed to help at the sale! \nWe need lots of volunteer help! Tasks vary from cashier and merchandise sales\, to greeters and bake sale attendees. CLICK HERE TO SIGN UP! \nInterested in donating to our bake sale? Please e-mail lindsay@petersongarden.org.
URL:https://chicagocommunitygardens.org/event/peterson-garden-project-plant-sale-bake-sale-2014-05-11-2/
LOCATION:Peterson Garden Project Learning center\, 4642 N. Francisco Ave\, Chicago\, IL\, 60625\, United States
CATEGORIES:Sale,Volunteer Opp.
ATTACH;FMTTYPE=image/jpeg:https://chicagocommunitygardens.org/wp-content/uploads/2014/05/pgp_logo.jpg
END:VEVENT
BEGIN:VEVENT
DTSTART;TZID=America/Chicago:20140517T100000
DTEND;TZID=America/Chicago:20140517T123000
DTSTAMP:20260419T164204
CREATED:20140508T173419Z
LAST-MODIFIED:20140508T173934Z
UID:581-1400320800-1400329800@chicagocommunitygardens.org
SUMMARY:McKinley Park Community Garden Organic Plant Sale
DESCRIPTION:The McKinley Park Community Garden will be hosting an Organic Plant Sale on Saturday May 17  All plants are $3 or 4 plants for $10.  Plants include nine varieties of tomatoes\,  six  varieties of peppers\, three  varieties of eggplant and several herbs.  All proceeds will go directly towards supporting the community garden and its community and educational programming. \nIn addition\, at noon Jana Kinsman from Bike a Bee will  share information about how bees help the garden grow.  The community garden added  bee hives to its shared space this year.  This event is open to the public and to anyone interested in learning more about bees and beekeeping. \nThe McKinley Park Community Garden is a not-for-profit organization in its second year of operation. It is home to over fifty garden plots. Each plot is farmed by individuals or families that are members of the garden. Additionally\, there are five giving gardens that are maintained by the entire garden community. The produce from the giving gardens is donated to local food banks. To foster the love of growing and eating local food and the enjoyment of good company\, events such as potlucks\, garden tours\, a salsa contest\, and a harvest festival are held throughout the growing season. \nIf you would like to become a member of the garden or learn more about it\, visit the website at mkpgarden.com.
URL:https://chicagocommunitygardens.org/event/mckinley-park-community-garden-organic-plant-sale/
LOCATION:McKinley Park Community Garden\, 1900 W Pershing Road\, Chicago\, 60609\, United States
CATEGORIES:Sale
ATTACH;FMTTYPE=image/png:https://chicagocommunitygardens.org/wp-content/uploads/2014/05/mpcg_logo.png
END:VEVENT
BEGIN:VEVENT
DTSTART;TZID=America/Chicago:20140517T100000
DTEND;TZID=America/Chicago:20140517T140000
DTSTAMP:20260419T164204
CREATED:20140515T182017Z
LAST-MODIFIED:20140515T182017Z
UID:647-1400320800-1400335200@chicagocommunitygardens.org
SUMMARY:Kilbourn Park Organic Greenhouse Plant Sale
DESCRIPTION:Kilbourn Park Organic Greenhouse will offer more than 150 varieties of organically-grown vegetable\, herb\, and flower seedlings.  Customers can expect a wide variety of open-pollinated and heirloom tomatoes\, peppers\, and eggplants.  Other highlights include an assortment of herbs\, greens and onions.  This year will feature many new plants selected for city gardening in small spaces and containers.   These seedlings are grown with the support of a team of dedicated volunteers who make this Plant Sale possible.  Volunteers will be on hand to answer questions about plant selection and planting.  This yearly fundraiser supports the greenhouse and our work to connect kids to nature and healthy foods. \nAlso Available at the Plant Sale:  Perennials and other plants donated by volunteers of the Kilbourn Park Organic Greenhouse\, organic compost\, and light snacks.  In addition\, a cookbook compiled by the Friends of Kilbourn Park Organic Greenhouse will be available for purchase.  Look for the Friends of Kilbourn Park Organic Greenhouse tables just outside the main gate to the gardens. \nPlant Prices ($2.00 to $5.00) CASH ONLY \nAge Range:  All
URL:https://chicagocommunitygardens.org/event/kilbourn-park-organic-greenhouse-plant-sale/
LOCATION:Kilbourn Park Organic Greenhouse\, 3501 N. Kilbourn\, Chicago\, IL\, 60641\, United States
CATEGORIES:Sale
ATTACH;FMTTYPE=image/jpeg:https://chicagocommunitygardens.org/wp-content/uploads/2014/05/KPOG_logo31.jpg
END:VEVENT
BEGIN:VEVENT
DTSTART;TZID=America/Chicago:20140524T100000
DTEND;TZID=America/Chicago:20140524T140000
DTSTAMP:20260419T164204
CREATED:20140523T155148Z
LAST-MODIFIED:20140523T160638Z
UID:676-1400925600-1400940000@chicagocommunitygardens.org
SUMMARY:Seedling sales and Workdays at the Howard Street Farm
DESCRIPTION:*ATTENTION: In response to requests\, we have added a non-Saturday date for Seedling Sales. We will be selling seedlings this coming Sunday\, May 25th from 10 am to 2 pm.* \nChoose local\, lovingly\, and organically-grown seedlings for your garden this year. The Talking Farm will offer 21 different varieties of home-grown seedlings at our sales at the Howard Street Farm\, starting with cold weather hardy varieties then moving on to warm weather varieties as spring progresses (update: warm weather seedlings now available). \nSales run on the Saturdays between May 3rd and June 7th\, and on Sunday\, May 25th\, from 10 am to 2 pm. Each seedling sale date will also be a work day\, so feel free to get your hands dirty and shop at the same time! \nOur selection of cool weather seedlings includes: \npeas\, kale\, bok choy\, cabbage\, leeks\, oregano\, parsley\, sage\, fennel\, red and yellow seed potatoes\, and raspberry and strawberry plants. \nOur selection of warm weather seedlings includes: \ntomatoes\, peppers\, eggplant\, cucumber\, zucchini\, melon\, basil\, thyme\, dill\, rosemary and other herbs \nSeedling sales support The Talking Farm. \nDetails:\n2014 Seedling Sales at The Howard Street Farm\n3669 Howard St.\, Skokie\n(behind the Tot Learning Center)\n10 am – 2 pm\nSaturdays\, May 3 – June 7; Sunday\, May 25
URL:https://chicagocommunitygardens.org/event/seedling-sales-and-workdays-at-the-howard-street-farm-2014-05-24/
LOCATION:The Howard Street Farm\, 3669 Howard St\, Skokie\, IL\, United States
CATEGORIES:Sale,Workday
ATTACH;FMTTYPE=image/jpeg:https://chicagocommunitygardens.org/wp-content/uploads/2014/05/5677742736_5f49be69d9.jpg
ORGANIZER;CN="The Talking Farm":MAILTO:info@thetalkingfarm.org
END:VEVENT
BEGIN:VEVENT
DTSTART;TZID=America/Chicago:20140531T100000
DTEND;TZID=America/Chicago:20140531T150000
DTSTAMP:20260419T164204
CREATED:20140527T174507Z
LAST-MODIFIED:20140527T175236Z
UID:698-1401530400-1401548400@chicagocommunitygardens.org
SUMMARY:Mozart's Community Garden Garage Sale Fundraiser Saturday May 31\, 2014
DESCRIPTION:Mozart’s community garden has had a spectacular first growing year!  Now that we are in to season 2 we are having our annual fundraiser\, a garage sale\, this Saturday May 31\, 10am-2pm in the parkway at 1001 N Sacramento blvd.\,  Chicago IL 60622 across from the Allstate Soccer Arena in Humboldt Park.  \nPlease spread the word and come shop! If you just so happened to spring clean and need to get rid of stuff\, we take donations. Please contact Jess: jrbader43@yahoo.com. \nKeep in mind this is our only fundraiser and we do not charge our gardeners more than a nominal fee to keep gardening a joy for the whole community.
URL:https://chicagocommunitygardens.org/event/mozarts-community-garden-garage-sale-fundraiser-saturday-may-31-2014/
LOCATION:IL
CATEGORIES:Fundraiser,Sale
ATTACH;FMTTYPE=image/jpeg:https://chicagocommunitygardens.org/wp-content/uploads/2014/05/September-2013-after-II.jpg
ORGANIZER;CN="Mozart's Community Garden":MAILTO:jrbader43@yahoo.com
END:VEVENT
END:VCALENDAR