BEGIN:VCALENDAR
VERSION:2.0
PRODID:-//Chicago Community Gardeners Association - ECPv6.15.16//NONSGML v1.0//EN
CALSCALE:GREGORIAN
METHOD:PUBLISH
X-ORIGINAL-URL:https://chicagocommunitygardens.org
X-WR-CALDESC:Events for Chicago Community Gardeners Association
REFRESH-INTERVAL;VALUE=DURATION:PT1H
X-Robots-Tag:noindex
X-PUBLISHED-TTL:PT1H
BEGIN:VTIMEZONE
TZID:America/Chicago
BEGIN:DAYLIGHT
TZOFFSETFROM:-0600
TZOFFSETTO:-0500
TZNAME:CDT
DTSTART:20150308T080000
END:DAYLIGHT
BEGIN:STANDARD
TZOFFSETFROM:-0500
TZOFFSETTO:-0600
TZNAME:CST
DTSTART:20151101T070000
END:STANDARD
BEGIN:DAYLIGHT
TZOFFSETFROM:-0600
TZOFFSETTO:-0500
TZNAME:CDT
DTSTART:20160313T080000
END:DAYLIGHT
BEGIN:STANDARD
TZOFFSETFROM:-0500
TZOFFSETTO:-0600
TZNAME:CST
DTSTART:20161106T070000
END:STANDARD
BEGIN:DAYLIGHT
TZOFFSETFROM:-0600
TZOFFSETTO:-0500
TZNAME:CDT
DTSTART:20170312T080000
END:DAYLIGHT
BEGIN:STANDARD
TZOFFSETFROM:-0500
TZOFFSETTO:-0600
TZNAME:CST
DTSTART:20171105T070000
END:STANDARD
END:VTIMEZONE
BEGIN:VEVENT
DTSTART;TZID=America/Chicago:20161001T173000
DTEND;TZID=America/Chicago:20161001T203000
DTSTAMP:20260421T101036
CREATED:20160920T163211Z
LAST-MODIFIED:20160920T163211Z
UID:19661-1475343000-1475353800@chicagocommunitygardens.org
SUMMARY:Stars\, Stories\, and S’More
DESCRIPTION:Kilbourn Park’s Organic Greenhouse is hosting a great event on Oct. 1st from 5:30-8:30pm. Come on out and partake in celebrating the start of Autumn and loving the outdoors. This is the program for the evening.\n5:30-7:30pm – Campfire Fun!\nJoin us around the campfire. There will be story telling\, and plenty of S’Mores (bring your own chocolate and graham crackers) We will provide the marshmallows.\n7:30-8:30pm – Scopes in the City\nAdler astronomers and educators are bringing the museum and the Universe a little closer to you!\nWith ‘Scopes in the City\, Adler astronomers and staff lead free telescope observing programs in Chicago neighborhoods. Depending on the dates\, times and locations of the ‘Scopes in the City events\, attendees may be able to observe the Sun\, Moon\, Jupiter\, Saturn\, and more!\nFor more information check out the events page on the Chicago Park District’s website.\nhttps://apm.activecommunities.com/chicagoparkdistrict/Activity_Search/186683
URL:https://chicagocommunitygardens.org/event/stars-stories-and-smore/
LOCATION:Kilbourn Park Organic Greenhouse\, 3501 N. Kilbourn\, Chicago\, IL\, 60641\, United States
CATEGORIES:Social,Workshop/Lecture
END:VEVENT
END:VCALENDAR