BEGIN:VCALENDAR
VERSION:2.0
PRODID:-//Chicago Community Gardeners Association - ECPv6.15.16//NONSGML v1.0//EN
CALSCALE:GREGORIAN
METHOD:PUBLISH
X-WR-CALNAME:Chicago Community Gardeners Association
X-ORIGINAL-URL:https://chicagocommunitygardens.org
X-WR-CALDESC:Events for Chicago Community Gardeners Association
REFRESH-INTERVAL;VALUE=DURATION:PT1H
X-Robots-Tag:noindex
X-PUBLISHED-TTL:PT1H
BEGIN:VTIMEZONE
TZID:America/Chicago
BEGIN:DAYLIGHT
TZOFFSETFROM:-0600
TZOFFSETTO:-0500
TZNAME:CDT
DTSTART:20140309T080000
END:DAYLIGHT
BEGIN:STANDARD
TZOFFSETFROM:-0500
TZOFFSETTO:-0600
TZNAME:CST
DTSTART:20141102T070000
END:STANDARD
BEGIN:DAYLIGHT
TZOFFSETFROM:-0600
TZOFFSETTO:-0500
TZNAME:CDT
DTSTART:20150308T080000
END:DAYLIGHT
BEGIN:STANDARD
TZOFFSETFROM:-0500
TZOFFSETTO:-0600
TZNAME:CST
DTSTART:20151101T070000
END:STANDARD
BEGIN:DAYLIGHT
TZOFFSETFROM:-0600
TZOFFSETTO:-0500
TZNAME:CDT
DTSTART:20160313T080000
END:DAYLIGHT
BEGIN:STANDARD
TZOFFSETFROM:-0500
TZOFFSETTO:-0600
TZNAME:CST
DTSTART:20161106T070000
END:STANDARD
END:VTIMEZONE
BEGIN:VEVENT
DTSTART;TZID=America/Chicago:20151024T120000
DTEND;TZID=America/Chicago:20151024T150000
DTSTAMP:20260422T210508
CREATED:20151021T165437Z
LAST-MODIFIED:20151021T170552Z
UID:18662-1445688000-1445698800@chicagocommunitygardens.org
SUMMARY:Children's Harvest Festival / Festival Anual de la Cosecha para los Niños
DESCRIPTION:FREE event this Saturday for our Annual Fall Children’s Harvest Festival from 12pm to 3pm! El Paseo Community Garden at 966 W. 21st St. \nJoin us for Pumpkin painting\, games\, pinata\, prizes\, potluck and much more! Please wear your costumes and bring a dish to share!\n________________________________________\nUn evento GRATIS este sábado para nuestro Festival anual de la Cosecha para los niños 12 p.m.-3 p.m.! El Paseo Jardín Comunitario en 966 W. 21st St. \nVengan para pintar calabazas\, juegos\, piñata\, premios\, convivo/potluck y mucho más! Por favor\, ponganse sus disfraces y traigan un platillo para compartir!
URL:https://chicagocommunitygardens.org/event/childrens-harvest-festival-festival-anual-de-la-cosecha-para-los-ninos/
LOCATION:El Paseo Community Garden\, 966 W. 21st St\, Chicago\, IL\, United States
CATEGORIES:Social
ATTACH;FMTTYPE=image/png:https://chicagocommunitygardens.org/wp-content/uploads/2015/10/harvest-fest-el-paseo.png
END:VEVENT
END:VCALENDAR