BEGIN:VCALENDAR
VERSION:2.0
PRODID:-//Chicago Community Gardeners Association - ECPv6.15.16//NONSGML v1.0//EN
CALSCALE:GREGORIAN
METHOD:PUBLISH
X-ORIGINAL-URL:https://chicagocommunitygardens.org
X-WR-CALDESC:Events for Chicago Community Gardeners Association
REFRESH-INTERVAL;VALUE=DURATION:PT1H
X-Robots-Tag:noindex
X-PUBLISHED-TTL:PT1H
BEGIN:VTIMEZONE
TZID:America/Chicago
BEGIN:DAYLIGHT
TZOFFSETFROM:-0600
TZOFFSETTO:-0500
TZNAME:CDT
DTSTART:20140309T080000
END:DAYLIGHT
BEGIN:STANDARD
TZOFFSETFROM:-0500
TZOFFSETTO:-0600
TZNAME:CST
DTSTART:20141102T070000
END:STANDARD
BEGIN:DAYLIGHT
TZOFFSETFROM:-0600
TZOFFSETTO:-0500
TZNAME:CDT
DTSTART:20150308T080000
END:DAYLIGHT
BEGIN:STANDARD
TZOFFSETFROM:-0500
TZOFFSETTO:-0600
TZNAME:CST
DTSTART:20151101T070000
END:STANDARD
BEGIN:DAYLIGHT
TZOFFSETFROM:-0600
TZOFFSETTO:-0500
TZNAME:CDT
DTSTART:20160313T080000
END:DAYLIGHT
BEGIN:STANDARD
TZOFFSETFROM:-0500
TZOFFSETTO:-0600
TZNAME:CST
DTSTART:20161106T070000
END:STANDARD
END:VTIMEZONE
BEGIN:VEVENT
DTSTART;TZID=America/Chicago:20150620T180000
DTEND;TZID=America/Chicago:20150620T210000
DTSTAMP:20260421T224104
CREATED:20150615T163809Z
LAST-MODIFIED:20150615T163809Z
UID:17959-1434823200-1434834000@chicagocommunitygardens.org
SUMMARY:Summer Solstice Potluck
DESCRIPTION:We would love to have CCGA members join Chicago Honey Co-op and Slow Food Chicago for our annual Sweet Summer Solstice potluck.\n\n\nThe most affordable fundraiser in Chicago is happening on June 20 at Rancho Verde (headquarters of Christy Webber Landscaping)\, just East of the Center for Green Technology at Sacramento and Ferdinand. Besides our tours of the beehives on the green roof\, you can take a peak at Christy’s sheep\, goats\, chickens and donkey (yes\, donkey).\n\nThere will be beer from Revolution Brewing\, wine from Candid wines\, bread from Baker Miller and fish from Fortune Fish and Gourmet.\n\nAll you have to do is buy a ticket for $15.00 bring a blanket or chairs to sit on and a potluck dish for sharing (salad\, side dish or dessert).\n\nProceeds will benefit Slow Food Chicago and our new partner organization\, Chicago Honey Co-op Training Center\n\n 
URL:https://chicagocommunitygardens.org/event/summer-solstice-potluck/
LOCATION:Christy Webber Landscapes\, 2900 W Ferdinand\, Chicago\, IL\, 60612\, United States
CATEGORIES:Fundraiser,Social,Tour
ATTACH;FMTTYPE=image/jpeg:https://chicagocommunitygardens.org/wp-content/uploads/2015/06/Summer_Solstice-19.jpg
ORGANIZER;CN="Slow Food Chicago":MAILTO:info@slowfoodchicago.org
END:VEVENT
BEGIN:VEVENT
DTSTART;TZID=America/Chicago:20150610T173000
DTEND;TZID=America/Chicago:20150610T200000
DTSTAMP:20260421T224104
CREATED:20150610T171106Z
LAST-MODIFIED:20150729T005008Z
UID:17917-1433957400-1433966400@chicagocommunitygardens.org
SUMMARY:Hideout Veggie Bingo
DESCRIPTION:Every Wednesday through August join the Hideout and NeighborSpace for bingo\, beer\, and free hot dogs*–still courtesy of our friends at Hot Doug’s–plus veggie dogs! \nHideout Veggie Bingo games raise money each week for Chicago-area community gardens. We have a bounty of prizes from local growers and food producers\, including Metropolis Coffee\, Peasants’ Plot\, Local Foods Grocer & Distributor\, Crumb Bread\, Co-Op Sauce\, Central Pickling\, Green Grocer\, Urban Accents\, and Agate Publishing. Plus our Grand Prize: a giant bag of organic vegetables and fruit from IRV & SHELLY’S FRESH PICKS (freshpicks.com). \nBingo cards are $4 each\, 3 for $10. Kids are welcome but must be accompanied by a responsible adult; your dogs can hang on the patio\, but please don’t bring them into the bar. \nDoors open at 5:30. Bingo starts at 6.
URL:https://chicagocommunitygardens.org/event/hideout-veggie-bingo/
LOCATION:The Hideout\, 1354 W Wabansia\, Chicago\, IL\, 60642\, United States
CATEGORIES:Fundraiser,Social
ATTACH;FMTTYPE=image/jpeg:https://chicagocommunitygardens.org/wp-content/uploads/2015/06/hideoutveggiebingo2015.jpg
ORGANIZER;CN="NeighborSpace":MAILTO:jzarrow@neighbor-space.org
END:VEVENT
BEGIN:VEVENT
DTSTART;TZID=America/Chicago:20150528T180000
DTEND;TZID=America/Chicago:20150528T193000
DTSTAMP:20260421T224104
CREATED:20150518T155421Z
LAST-MODIFIED:20150518T155421Z
UID:17700-1432836000-1432841400@chicagocommunitygardens.org
SUMMARY:Chicago Youth Centers ABC Polk Bros. Garden Peace Party
DESCRIPTION:“Peace”\nEnd of School Year Garden Party\nRSVP  773-762-5655 \n-CYC Sunshine Youth Garden Tours\n-Poster Exhibit\n-2nd Annual Garden Hat Contest\n-Lawn Games\n-Safe Summer Resources\n-Summer Program Sign Up
URL:https://chicagocommunitygardens.org/event/chicago-youth-centers-abc-polk-bros-garden-peace-party/
LOCATION:Chicago Youth Centers ABC Polk Bros.\, 3415 W. 13th Place\, Chicago\, IL\, 60623\, United States
CATEGORIES:Social,Tour
ORGANIZER;CN="Chicago Youth Centers":MAILTO:kimberly.george@chicagoyouthcenters.org
END:VEVENT
BEGIN:VEVENT
DTSTART;TZID=America/Chicago:20150425T100000
DTEND;TZID=America/Chicago:20150425T120000
DTSTAMP:20260421T224104
CREATED:20150331T171529Z
LAST-MODIFIED:20150331T174134Z
UID:16994-1429956000-1429963200@chicagocommunitygardens.org
SUMMARY:Jardincito - Children's Tree Planting / SIEMBRA DE ÁRBOLES PARA LOS NIÑOS
DESCRIPTION:Jardincito Advisory Council invites you and your young children to a CHILDREN’S TREE PLANTING\nPlease join us for a very special ceremonial tree planting to celebrate the launch of Jardincito Community Play Garden! \nBring your shovel! Bring a spoon! Bring your hands! \nLight snacks and drinks will be provided\, as well as some children’s shovels and buckets. \nA new community-created play and exploration garden is coming! \nThe future garden at 23rd and Whipple is a place where young children can play and explore nature right in there own neighborhood. Rather than traditional swings and slides\, this garden’s features are borrowed from the natural world. Earthen mounds\, balancing logs\, imaginative decks\, boulder spirals and play huts are all planned for this garden. Jardincito is a special place where children can connect with both nature and their community. This tree planting is just the beginning of wonderful things happening in this special garden! \n\nEl Consejo Asesor Jardincito los invitan a una ¡SIEMBRA DE ÁRBOLES PARA LOS NIÑOS!\nPor favor\, únase a nosotros para una ceremonia muy especial. Vamos a sembrar el primer árbol para celebrar el lanzamiento de el Jardín de Juego Comunitario – Jardincito! \n¡Traiga su pala! ¡Traiga una cuchara! ¡Traiga sus manos!  \nAperitivos y bebidas serán provistos. Tambien tendremos palas y cubetas para niños. \n¡Próximamente un nuevo jardín comunitario de juego y exploració El futuro Jardin localizado en la 23 y la Whipple será un lugar donde los niños podran jugar y explorer la naturaleza en su propio vecindario. En lugar de columpios y tobogánes tradicionales\, habrá características tomadas del mundo natural como montículos de tierra\, troncos para equilibrar\, plataformas\, espirales de roca y chositas para jugar. Jardincito sera un lugar especial donde los niños pueden conectarse con la naturaleza y su comunidad. La siembre de este árbole es sólo el principio de las cosas maravillosas que estan por venir en este jardín especial!
URL:https://chicagocommunitygardens.org/event/jardincito-childrens-tree-planting/
LOCATION:IL
CATEGORIES:Social,Workday
ATTACH;FMTTYPE=image/jpeg:https://chicagocommunitygardens.org/wp-content/uploads/2015/03/Scene-5.jpg
END:VEVENT
BEGIN:VEVENT
DTSTART;TZID=America/Chicago:20150404T110000
DTEND;TZID=America/Chicago:20150404T130000
DTSTAMP:20260421T224104
CREATED:20150304T153732Z
LAST-MODIFIED:20150304T153732Z
UID:15539-1428145200-1428152400@chicagocommunitygardens.org
SUMMARY:Burling Park Easter Egg Hunt
DESCRIPTION:We plan to hold our annual Burling Park Easter Egg Hunt on Saturday\, April 4  at 11am (leaving Sunday for other family events). Please mark your calendars. \nWe welcome any assistance in planning this event\, including financial support (to purchase goodies)\, and stuffing and hiding goodies in Burling Park on Saturday morning.
URL:https://chicagocommunitygardens.org/event/burling-park-easter-egg-hunt/
LOCATION:Burling Park\, 2931 N. Burling St. \, Chicago\, IL\, United States
CATEGORIES:Social
ATTACH;FMTTYPE=image/jpeg:https://chicagocommunitygardens.org/wp-content/uploads/2015/03/10560270_771606376215799_7592842933266287398_o.jpg
ORGANIZER;CN="Friends of Burling Park":MAILTO:burlingpark@yahoo.com
END:VEVENT
BEGIN:VEVENT
DTSTART;TZID=America/Chicago:20150308T160000
DTEND;TZID=America/Chicago:20150308T190000
DTSTAMP:20260421T224104
CREATED:20150305T175138Z
LAST-MODIFIED:20150305T175244Z
UID:15579-1425830400-1425841200@chicagocommunitygardens.org
SUMMARY:Second Sunday Supper
DESCRIPTION:On Second Sundays join Mindful Living for supper & socializing. We’ll have yummy food\, a cash bar\, and sweet tunes. It’s also free (donations are accepted) and everyone is welcome so bring a pal and arrive hungry!
URL:https://chicagocommunitygardens.org/event/second-sunday-supper/
LOCATION:IL
CATEGORIES:Social
ATTACH;FMTTYPE=image/png:https://chicagocommunitygardens.org/wp-content/uploads/2015/03/SSS-back.png
ORGANIZER;CN="Mindful Living":MAILTO:mindfullivingchicago@gmail.com
END:VEVENT
END:VCALENDAR