BEGIN:VCALENDAR
VERSION:2.0
PRODID:-//Chicago Community Gardeners Association - ECPv6.15.16//NONSGML v1.0//EN
CALSCALE:GREGORIAN
METHOD:PUBLISH
X-WR-CALNAME:Chicago Community Gardeners Association
X-ORIGINAL-URL:https://chicagocommunitygardens.org
X-WR-CALDESC:Events for Chicago Community Gardeners Association
REFRESH-INTERVAL;VALUE=DURATION:PT1H
X-Robots-Tag:noindex
X-PUBLISHED-TTL:PT1H
BEGIN:VTIMEZONE
TZID:America/Chicago
BEGIN:DAYLIGHT
TZOFFSETFROM:-0600
TZOFFSETTO:-0500
TZNAME:CDT
DTSTART:20140309T080000
END:DAYLIGHT
BEGIN:STANDARD
TZOFFSETFROM:-0500
TZOFFSETTO:-0600
TZNAME:CST
DTSTART:20141102T070000
END:STANDARD
BEGIN:DAYLIGHT
TZOFFSETFROM:-0600
TZOFFSETTO:-0500
TZNAME:CDT
DTSTART:20150308T080000
END:DAYLIGHT
BEGIN:STANDARD
TZOFFSETFROM:-0500
TZOFFSETTO:-0600
TZNAME:CST
DTSTART:20151101T070000
END:STANDARD
BEGIN:DAYLIGHT
TZOFFSETFROM:-0600
TZOFFSETTO:-0500
TZNAME:CDT
DTSTART:20160313T080000
END:DAYLIGHT
BEGIN:STANDARD
TZOFFSETFROM:-0500
TZOFFSETTO:-0600
TZNAME:CST
DTSTART:20161106T070000
END:STANDARD
END:VTIMEZONE
BEGIN:VEVENT
DTSTART;TZID=America/Chicago:20150516T080000
DTEND;TZID=America/Chicago:20150516T170000
DTSTAMP:20260425T205701
CREATED:20150508T191537Z
LAST-MODIFIED:20150508T191537Z
UID:17591-1431763200-1431795600@chicagocommunitygardens.org
SUMMARY:Seeds of Service: A Day of Service to Support Community Gardens in Humboldt Park
DESCRIPTION:Registration: 9:30am-10:00am \nEvent: 10:00am – 2:30pm \nBreakfast and Lunch Provided \nWe will garden rain or shine! \nGarden opportunities include: Composting\, Planting Seedlings and Perennials\, Participating in an Educational Workshop \nREGISTER HERE\nBILINGUAL FLYER
URL:https://chicagocommunitygardens.org/event/seeds-of-service-a-day-of-service-to-support-community-gardens-in-humboldt-park/
LOCATION:Humboldt Park Field House\, 1440 N. Sacramento Blvd\, Chicago\, IL\, 60622\, United States
CATEGORIES:Volunteer Opp.,Workday
ATTACH;FMTTYPE=image/jpeg:https://chicagocommunitygardens.org/wp-content/uploads/2015/05/SOS-5-17-2015.jpg
ORGANIZER;CN="Claire Unger":MAILTO:cunger@nush.org
END:VEVENT
BEGIN:VEVENT
DTSTART;TZID=America/Chicago:20150516T220000
DTEND;TZID=America/Chicago:20150516T220000
DTSTAMP:20260425T205701
CREATED:20150501T222208Z
LAST-MODIFIED:20150501T222208Z
UID:17501-1431813600-1431813600@chicagocommunitygardens.org
SUMMARY:11th Annual Seeds of Service
DESCRIPTION:Join AmeriCorps Project YES! for our 11th Annual Seeds of Service community garden project! Seeds of Service is a day of service to support local community gardens in Humboldt Park. The purpose of Seeds of Service is to raise awareness about community gardening and to mobilize community members in volunteerism. Through this day of service\, we hope to support the important work that gardens and organizations in Humboldt Park are doing to build community and fight hunger.\nOver the past 10 years\, Seeds of Service has organized over 500 volunteers. This year we have established partnerships with 9 community gardens and hope to work with over 100 volunteers. We welcome members of the Humboldt Park community and beyond to support this day of service.\nWe are looking for adult volunteers (18 years or older) to prepare community gardens for the spring and summer. Tasks may include constructing garden beds\, planting\, weeding\, and more. No experience is necessary to participate.\nThe event will take place from 9:30am-2:30pm on Saturday\, May 16th. Registration will begin promptly at 9:30am at the Humboldt Park Fieldhouse (1440 N Sacramento Ave\, Chicago\, IL 60622). Participants will then attend a 30-minute educational gardening workshop before heading out to the gardens. To register online\, please visit http://goo.gl/Fc8SDc.\nVolunteers should wear comfortable clothing. Breakfast and lunch will be provided. We will be gardening rain or shine!\nIf you have any questions\, please contact Claire Unger at cunger@nush.org or (773) 969-5539.
URL:https://chicagocommunitygardens.org/event/11th-annual-seeds-of-service/
LOCATION:Humboldt Park Field House\, 1440 N. Sacramento Blvd\, Chicago\, IL\, 60622\, United States
CATEGORIES:Volunteer Opp.
ATTACH;FMTTYPE=image/jpeg:https://chicagocommunitygardens.org/wp-content/uploads/2015/05/SOS-5-17-2015.jpg
ORGANIZER;CN="Claire Unger":MAILTO:cunger@nush.org
END:VEVENT
END:VCALENDAR