BEGIN:VCALENDAR
VERSION:2.0
PRODID:-//Chicago Community Gardeners Association - ECPv6.15.16//NONSGML v1.0//EN
CALSCALE:GREGORIAN
METHOD:PUBLISH
X-ORIGINAL-URL:https://chicagocommunitygardens.org
X-WR-CALDESC:Events for Chicago Community Gardeners Association
REFRESH-INTERVAL;VALUE=DURATION:PT1H
X-Robots-Tag:noindex
X-PUBLISHED-TTL:PT1H
BEGIN:VTIMEZONE
TZID:America/Chicago
BEGIN:DAYLIGHT
TZOFFSETFROM:-0600
TZOFFSETTO:-0500
TZNAME:CDT
DTSTART:20150308T080000
END:DAYLIGHT
BEGIN:STANDARD
TZOFFSETFROM:-0500
TZOFFSETTO:-0600
TZNAME:CST
DTSTART:20151101T070000
END:STANDARD
BEGIN:DAYLIGHT
TZOFFSETFROM:-0600
TZOFFSETTO:-0500
TZNAME:CDT
DTSTART:20160313T080000
END:DAYLIGHT
BEGIN:STANDARD
TZOFFSETFROM:-0500
TZOFFSETTO:-0600
TZNAME:CST
DTSTART:20161106T070000
END:STANDARD
BEGIN:DAYLIGHT
TZOFFSETFROM:-0600
TZOFFSETTO:-0500
TZNAME:CDT
DTSTART:20170312T080000
END:DAYLIGHT
BEGIN:STANDARD
TZOFFSETFROM:-0500
TZOFFSETTO:-0600
TZNAME:CST
DTSTART:20171105T070000
END:STANDARD
END:VTIMEZONE
BEGIN:VEVENT
DTSTART;TZID=America/Chicago:20160728T170000
DTEND;TZID=America/Chicago:20160728T190000
DTSTAMP:20260424T105100
CREATED:20160714T155407Z
LAST-MODIFIED:20160714T155407Z
UID:19504-1469725200-1469732400@chicagocommunitygardens.org
SUMMARY:preSERVE Garden Volunteer Day - Weeknight Edition
DESCRIPTION:Our second month of weeknight volunteer days in the garden is almost here. Can’t make it on the weekend? Join us on the evening of Thursday\, July 28th to get your hands dirty in the garden. After the hard work is done\, join us for a quick bite with your fellow gardeners! \nWhat to bring : gardening glove and a hat (if you have them). Email slowfoodpreserve@gmail.com with questions and to RSVP. Hope to see you in the garden!
URL:https://chicagocommunitygardens.org/event/preserve-garden-volunteer-day-weeknight-edition/
LOCATION:preSERVE Garden\, 1231 S. Central Park Ave\, Chicago\, IL\, United States
CATEGORIES:Volunteer Opp.,Workday
ATTACH;FMTTYPE=image/jpeg:https://chicagocommunitygardens.org/wp-content/uploads/2016/07/12985370_10153386837301415_156583488690598500_n.jpg
ORGANIZER;CN="Slow Food Chicago":MAILTO:info@slowfoodchicago.org
END:VEVENT
END:VCALENDAR