BEGIN:VCALENDAR
VERSION:2.0
PRODID:-//Chicago Community Gardeners Association - ECPv6.15.16//NONSGML v1.0//EN
CALSCALE:GREGORIAN
METHOD:PUBLISH
X-ORIGINAL-URL:https://chicagocommunitygardens.org
X-WR-CALDESC:Events for Chicago Community Gardeners Association
REFRESH-INTERVAL;VALUE=DURATION:PT1H
X-Robots-Tag:noindex
X-PUBLISHED-TTL:PT1H
BEGIN:VTIMEZONE
TZID:America/Chicago
BEGIN:DAYLIGHT
TZOFFSETFROM:-0600
TZOFFSETTO:-0500
TZNAME:CDT
DTSTART:20150308T080000
END:DAYLIGHT
BEGIN:STANDARD
TZOFFSETFROM:-0500
TZOFFSETTO:-0600
TZNAME:CST
DTSTART:20151101T070000
END:STANDARD
BEGIN:DAYLIGHT
TZOFFSETFROM:-0600
TZOFFSETTO:-0500
TZNAME:CDT
DTSTART:20160313T080000
END:DAYLIGHT
BEGIN:STANDARD
TZOFFSETFROM:-0500
TZOFFSETTO:-0600
TZNAME:CST
DTSTART:20161106T070000
END:STANDARD
BEGIN:DAYLIGHT
TZOFFSETFROM:-0600
TZOFFSETTO:-0500
TZNAME:CDT
DTSTART:20170312T080000
END:DAYLIGHT
BEGIN:STANDARD
TZOFFSETFROM:-0500
TZOFFSETTO:-0600
TZNAME:CST
DTSTART:20171105T070000
END:STANDARD
END:VTIMEZONE
BEGIN:VEVENT
DTSTART;TZID=America/Chicago:20160812T100000
DTEND;TZID=America/Chicago:20160812T130000
DTSTAMP:20260422T105209
CREATED:20160805T194409Z
LAST-MODIFIED:20160805T194409Z
UID:19605-1470996000-1471006800@chicagocommunitygardens.org
SUMMARY:ANOTHER CCGA Perennial Plant Distribution Friday\, August 12\, 2016
DESCRIPTION:CCGA SECOND PERENNIAL PLANT DISTRIBUTION\n\nElite Growers does it again!\nElite is donating another group of perennials to CCGA! \nFRIDAY\, August 12\, 2016\nNew Horizons Community Garden\n401 S. Central Park\n(southeast corner of Van Buren and Central Park)\nNote: Parking is available on both Central Park and Van Buren \nTO PRE-REGISTER –\nPlease email the following information to Mamie Gray (mamie@uic.edu): \n        NAME of community garden\n        ADDRESS of community garden\n        EMAIL of contact person for community garden\n(Pre-registration is not complete without this information) \n10:00 a.m          CHECK-IN:\n                               $5.00 Registration Fee\, payable when you check on at the event.\nNo credit cards please. One group of perennials per community garden. \n11:00 a.m          DISTRIBUTION:\nUntil all plants are gone. \nWant to volunteer to help sort and distribute the perennials?\nEmail Ellen Newcomer at ecnewcomer334@gmail.com. We need volunteers for two hour shifts at 8:30 a.m. Let Ellen know your availability. THANKS! \nSee You There!
URL:https://chicagocommunitygardens.org/event/another-ccga-perennial-plant-distribution-friday-august-12-2016/
LOCATION:New Horizons Community Garden\, 401 S. Central Park\, Chicago\, IL\, 60624\, United States
CATEGORIES:Plant Distribution/Swap,Volunteer Opp.
END:VEVENT
END:VCALENDAR