BEGIN:VCALENDAR
VERSION:2.0
PRODID:-//Chicago Community Gardeners Association - ECPv6.15.16//NONSGML v1.0//EN
CALSCALE:GREGORIAN
METHOD:PUBLISH
X-WR-CALNAME:Chicago Community Gardeners Association
X-ORIGINAL-URL:https://chicagocommunitygardens.org
X-WR-CALDESC:Events for Chicago Community Gardeners Association
REFRESH-INTERVAL;VALUE=DURATION:PT1H
X-Robots-Tag:noindex
X-PUBLISHED-TTL:PT1H
BEGIN:VTIMEZONE
TZID:America/Chicago
BEGIN:DAYLIGHT
TZOFFSETFROM:-0600
TZOFFSETTO:-0500
TZNAME:CDT
DTSTART:20130310T080000
END:DAYLIGHT
BEGIN:STANDARD
TZOFFSETFROM:-0500
TZOFFSETTO:-0600
TZNAME:CST
DTSTART:20131103T070000
END:STANDARD
BEGIN:DAYLIGHT
TZOFFSETFROM:-0600
TZOFFSETTO:-0500
TZNAME:CDT
DTSTART:20140309T080000
END:DAYLIGHT
BEGIN:STANDARD
TZOFFSETFROM:-0500
TZOFFSETTO:-0600
TZNAME:CST
DTSTART:20141102T070000
END:STANDARD
BEGIN:DAYLIGHT
TZOFFSETFROM:-0600
TZOFFSETTO:-0500
TZNAME:CDT
DTSTART:20150308T080000
END:DAYLIGHT
BEGIN:STANDARD
TZOFFSETFROM:-0500
TZOFFSETTO:-0600
TZNAME:CST
DTSTART:20151101T070000
END:STANDARD
END:VTIMEZONE
BEGIN:VEVENT
DTSTART;TZID=America/Chicago:20140805T130000
DTEND;TZID=America/Chicago:20140805T170000
DTSTAMP:20260423T220552
CREATED:20140719T131105Z
LAST-MODIFIED:20140719T131105Z
UID:822-1407243600-1407258000@chicagocommunitygardens.org
SUMMARY:Paper Fashion Party
DESCRIPTION:The Papermaker’s Garden at Columbia College Chicago presents a slow fashion experiment that transforms plants into fibers\, fibers into paper\, and paper into clothing and accessories. \nEvents include: A recycled fabric paper pulping demonstration by Jillian Bruschera of ‘The Mobile Mill’\, large (4ftx10ft!) sheet formation\, how to turn sheets of paper into fabric\, fabric printing techniques\, collaborative paper dress construction\, print your own piece of paper ‘fabric’ to take home!
URL:https://chicagocommunitygardens.org/event/paper-fashion-party/
LOCATION:The Papermaker’s Garden\, 8th and Wabash\, Chicago\, IL\, 60605\, United States
CATEGORIES:Workshop/Lecture
ATTACH;FMTTYPE=image/jpeg:https://chicagocommunitygardens.org/wp-content/uploads/2014/07/PMG_Paper-Dress_Party_v5.jpg
ORGANIZER;CN="Columbia College Chicago":MAILTO:papermakersgarden@gmail.com
END:VEVENT
BEGIN:VEVENT
DTSTART;TZID=America/Chicago:20140814T180000
DTEND;TZID=America/Chicago:20140814T200000
DTSTAMP:20260423T220552
CREATED:20140722T120138Z
LAST-MODIFIED:20140722T120834Z
UID:835-1408039200-1408046400@chicagocommunitygardens.org
SUMMARY:Root Cellars to Refrigeration: Food Preservation 101
DESCRIPTION:Speaker: Tim Heppner\, Ecotelligent Design\nAudience: General \nHow can you enjoy the fruits and vegetables from your summer garden all year round? Tim Heppner takes us through homesteading 101: preserving. He will show multiple methods that are used to preserve foods such as canning\, dehydration\, fermentation and more. He will outline each method’s pros and cons\, discuss how long food will last while stored each way\, and describe what foods are best for each method. Being ever interested in energy usage\, Tim will also take a deeper look into how much energy each method will use and what will be your greenest option! \nSpace is limited – Register here
URL:https://chicagocommunitygardens.org/event/root-cellars-to-refrigeration-food-preservation-101/
LOCATION:Chicago Center for Green Technology (CCGT)\, 445 N Sacramento\, Chicago\, IL\, 60612\, United States
CATEGORIES:Workshop/Lecture
END:VEVENT
BEGIN:VEVENT
DTSTART;TZID=America/Chicago:20140826T190000
DTEND;TZID=America/Chicago:20140826T210000
DTSTAMP:20260423T220552
CREATED:20140826T173347Z
LAST-MODIFIED:20140826T173347Z
UID:6282-1409079600-1409086800@chicagocommunitygardens.org
SUMMARY:Garden Whimsy: Using nature's materials to decorate your garden and home
DESCRIPTION:Laurie Smith from Fat Blossom Farms\nand\nArtist Kathy Dickhut \nWHEN:\nTuesday\, August 26 at 7:00pm  \nWHERE:\nThe home of Barbara and Joe Moore\n1431 W. Fargo \nWe all love to decorate our homes with cut flowers and to spice up our gardens with sculptures and fountains.  But there is another way to decorate the home and garden….using found objects and natural products from our own yards\, plus a little imagination. \nJoin us for the final member program of the year at the home of Barbara and Joe Moore.  Laurie of Fat Blossom Farms will show us how they re-purpose wood\, leaves and other natural products into garden “whimsies” that create magical fairy garden vignettes.  And artist Kathy Dickhut will tell us about how she gathers herbs\, dried flowers and other botanicals to fill custom potpourri sachets and curiosity cabinets. \nBoth presenters will have samples of their products for sale! \nWe’ll enjoy a few refreshments afterwards in the lovely back yard at the Moore home on Fargo.  As a bonus\, our host Barb Moore will tell us more about how she uses produce from her own garden creatively in her cooking — and you’ll get to sample some of the results of that creativity! \nIn case of rain\, bring an umbrella to tour the faerie garden; we will enjoy refreshments and presentations indoors. \nMeetings are free for RPGG members; $5 for guests.  All are welcome.
URL:https://chicagocommunitygardens.org/event/garden-whimsy-using-natures-materials-to-decorate-your-garden-and-home/
LOCATION:IL
CATEGORIES:Workshop/Lecture
ATTACH;FMTTYPE=image/jpeg:https://chicagocommunitygardens.org/wp-content/uploads/2014/08/Fat-Blossom-Farm-fairy-garden-trail-house.jpg
ORGANIZER;CN="Rogers Park Garden Group":MAILTO:rpgardengroup@gmail.com.
END:VEVENT
END:VCALENDAR