BEGIN:VCALENDAR
VERSION:2.0
PRODID:-//Chicago Community Gardeners Association - ECPv6.15.16//NONSGML v1.0//EN
CALSCALE:GREGORIAN
METHOD:PUBLISH
X-ORIGINAL-URL:https://chicagocommunitygardens.org
X-WR-CALDESC:Events for Chicago Community Gardeners Association
REFRESH-INTERVAL;VALUE=DURATION:PT1H
X-Robots-Tag:noindex
X-PUBLISHED-TTL:PT1H
BEGIN:VTIMEZONE
TZID:America/Chicago
BEGIN:DAYLIGHT
TZOFFSETFROM:-0600
TZOFFSETTO:-0500
TZNAME:CDT
DTSTART:20140309T080000
END:DAYLIGHT
BEGIN:STANDARD
TZOFFSETFROM:-0500
TZOFFSETTO:-0600
TZNAME:CST
DTSTART:20141102T070000
END:STANDARD
BEGIN:DAYLIGHT
TZOFFSETFROM:-0600
TZOFFSETTO:-0500
TZNAME:CDT
DTSTART:20150308T080000
END:DAYLIGHT
BEGIN:STANDARD
TZOFFSETFROM:-0500
TZOFFSETTO:-0600
TZNAME:CST
DTSTART:20151101T070000
END:STANDARD
BEGIN:DAYLIGHT
TZOFFSETFROM:-0600
TZOFFSETTO:-0500
TZNAME:CDT
DTSTART:20160313T080000
END:DAYLIGHT
BEGIN:STANDARD
TZOFFSETFROM:-0500
TZOFFSETTO:-0600
TZNAME:CST
DTSTART:20161106T070000
END:STANDARD
END:VTIMEZONE
BEGIN:VEVENT
DTSTART;TZID=America/Chicago:20150301T140000
DTEND;TZID=America/Chicago:20150301T170000
DTSTAMP:20260423T044834
CREATED:20150216T163839Z
LAST-MODIFIED:20160203T174939Z
UID:15375-1425218400-1425229200@chicagocommunitygardens.org
SUMMARY:6th Annual Peterson Garden Project Seed Swap
DESCRIPTION:Whether you saved seeds from plants grown in your garden\, have leftover new or used seed packets\, or are looking for seeds\, the 6th Annual Peterson Garden Project Seed Swap in the place to be! You never know what you will find – gardeners are generous people\, after all. Reconnect with old friends and meet new ones as we all get excited about growing together in 2015! \nWe’ll have seeds to give away from companies like Botanical Interests Seed Packets\, Renee’s Garden Seeds and Baker Creek Heirloom Seed Company\, as well as items for sale\, like our Fearless Food Gardening Book and gear from The Seed Keeper Company \nInterested in getting involved with our Seed Saving Garden\, where we grow out seeds for planting in our Grow2Give beds? We’re looking for people with all levels of gardening and seed saving experience. Check out the FAQ and sign up sheet at the swap! \nAfter the swap\, join us in the auditorium for a film screening of Seeds of Time. \nThis event is free\, but please register if you would like to reserve your seat at the film screening. \n#SeedSwapDay
URL:https://chicagocommunitygardens.org/event/6th-annual-peterson-garden-project-seed-swap/
LOCATION:IL
CATEGORIES:Plant Distribution/Swap,Sale,Workshop/Lecture
ATTACH;FMTTYPE=image/jpeg:https://chicagocommunitygardens.org/wp-content/uploads/2015/02/seedswap.jpg
END:VEVENT
BEGIN:VEVENT
DTSTART;TZID=America/Chicago:20150307T090000
DTEND;TZID=America/Chicago:20150307T120000
DTSTAMP:20260423T044834
CREATED:20150209T180911Z
LAST-MODIFIED:20150209T180911Z
UID:15325-1425718800-1425729600@chicagocommunitygardens.org
SUMMARY:Windy City Harvest: Small Farm Season Extension
DESCRIPTION:Arturo Velasquez Institute Greenhouse\nBritt Calendo\, Windy City Harvest PCC wellness farm coordinator.\n$39 \nLearn how to extend your spring or fall growing season to 9-months or even year round production. Explore what crops and varieties perform best in Chicago. Specific techniques will be covered such as using row cover\, building simple low tunnels and cold frames or even creating protected cultivation in a hoophouse. This workshop includes a hands-on basic low tunnel build out activity. This workshop is instructed by Britt Calendo\, WCH PCC Wellness Farm Coordinator.
URL:https://chicagocommunitygardens.org/event/windy-city-harvest-small-farm-season-extension/
LOCATION:Chicago Botanic Garden\, 1000 Lake Cook Rd\, Glencoe\, IL\, 60022\, United States
CATEGORIES:Workshop/Lecture
ATTACH;FMTTYPE=image/png:https://chicagocommunitygardens.org/wp-content/uploads/2015/02/chicagobotanicgardenlogo.png
END:VEVENT
BEGIN:VEVENT
DTSTART;TZID=America/Chicago:20150307T100000
DTEND;TZID=America/Chicago:20150307T120000
DTSTAMP:20260423T044834
CREATED:20150223T171930Z
LAST-MODIFIED:20150223T171930Z
UID:15390-1425722400-1425729600@chicagocommunitygardens.org
SUMMARY:Honeybees and Horticulture
DESCRIPTION:Free Adult Workshop: Honeybees and Horticulture\nBeekeeping is an ancient craft\, practiced in all world cultures except the arctic. Deep respect is acquired from learning about what bees and other migrating animals eat in our neighborhoods. Foraging only nectar and pollen\, honeybees produce clean\, healthy food that embodies our environment in taste\, texture and beauty. Prairie remnants provide an amazing pallet of perennials and annual wild flowers that many of us don’t recognize. The presentation will show the trees\, shrubs and other flowering plants that are essential for insect health and which abound in the Chicago region in restoration prairies\, neglected lots\, and local backyards. Presented by Michael Thompson\, Farm Manager\, Chicago Honey Co-op.
URL:https://chicagocommunitygardens.org/event/honeybees-and-horticulture/
LOCATION:Chicago Cultural Center\, 78 E Washington St\, Chicago\, IL\, United States
CATEGORIES:Workshop/Lecture
ATTACH;FMTTYPE=image/jpeg:https://chicagocommunitygardens.org/wp-content/uploads/2015/02/lurie_garden_logo.jpg
ORGANIZER;CN="Michael S. Thompson%2C Chicago Honey Co-Op":MAILTO:michael.honeycoop@gmail.com
END:VEVENT
BEGIN:VEVENT
DTSTART;TZID=America/Chicago:20150314T090000
DTEND;TZID=America/Chicago:20150314T130000
DTSTAMP:20260423T044834
CREATED:20150209T181410Z
LAST-MODIFIED:20150209T181651Z
UID:15327-1426323600-1426338000@chicagocommunitygardens.org
SUMMARY:Windy City Harvest: Home-Scale Aquaponics
DESCRIPTION:Arturo Velasquez Institute Greenhouse\nAndy McGhee\, Windy City Harvest aquaponics coordinator
URL:https://chicagocommunitygardens.org/event/windy-city-harvest-home-scale-aquaponics/
LOCATION:Chicago Botanic Garden\, 1000 Lake Cook Rd\, Glencoe\, IL\, 60022\, United States
CATEGORIES:Workshop/Lecture
ATTACH;FMTTYPE=image/png:https://chicagocommunitygardens.org/wp-content/uploads/2015/02/chicagobotanicgardenlogo.png
END:VEVENT
BEGIN:VEVENT
DTSTART;TZID=America/Chicago:20150314T140000
DTEND;TZID=America/Chicago:20150314T150000
DTSTAMP:20260423T044834
CREATED:20150305T162004Z
LAST-MODIFIED:20150305T162111Z
UID:15555-1426341600-1426345200@chicagocommunitygardens.org
SUMMARY:Peterson Garden Project Seed Sowing Workshop
DESCRIPTION:Eager to get a jump start on the growing season? In this class we will discuss how seeds sprout\, and how you can re-create the right germination conditions indoors or in your outdoor garden plot. We will talk about seed-starting dates\, sanitation\, best seed-starting mixes\, navigating the information on a seed packet and why wind or a fan is important for young plants! \nFor the hands-on portion we will: \n-demonstrate the correct level of soil moisture\, watering methods and planting depth \n-show a variety of different containers for planting seeds\, and setups for achieving optimum light and temperature \n-do germination tests \n-go over next seedling’ next steps’ – fertilizing\, potting up\, and transplanting \nYou will go home with your own tray of seeds to germinate\, as well as more for planting later!
URL:https://chicagocommunitygardens.org/event/peterson-garden-project-seed-sowing-workshop/
LOCATION:Peterson Garden Project Learning Center\, 4642 N. Francisco Ave.\, Chicago\, Illinois\, 60625\, United States
CATEGORIES:Workshop/Lecture
ATTACH;FMTTYPE=image/jpeg:https://chicagocommunitygardens.org/wp-content/uploads/2014/05/pgp_logo.jpg
ORGANIZER;CN="Breanne Heath":MAILTO:breanne@petersongarden.org
END:VEVENT
BEGIN:VEVENT
DTSTART;TZID=America/Chicago:20150319T090000
DTEND;TZID=America/Chicago:20150319T113000
DTSTAMP:20260423T044834
CREATED:20150306T181457Z
LAST-MODIFIED:20150306T181720Z
UID:15625-1426755600-1426764600@chicagocommunitygardens.org
SUMMARY:Healthy Food Access Workshop -  Urban Ag and Community  Gardening
DESCRIPTION:Join us for a panel discussion on community food production through urban agriculture and community gardening. This will be an interactive workshop and panel discussion where you can learn about and share best practices in food production to improve the food environment in your communities. \nPanelists will include Depaul University-Steans Center\, Chicago Public Schools\, and more. \nMore details regarding the space and panelists will be sent as the date approaches. \nSpace is limited. Kindly email Donielle Wells at dwells@luriechildrens.org to RSVP.
URL:https://chicagocommunitygardens.org/event/healthy-food-access-workshop-urban-ag-and-community-gardening/
LOCATION:DePaul University Lincoln Park Student Center\, 2250 N Sheffield Ave\, Chicago\, IL\, 60614\, United States
CATEGORIES:Workshop/Lecture
ATTACH;FMTTYPE=image/jpeg:https://chicagocommunitygardens.org/wp-content/uploads/2015/03/Capture.jpg
END:VEVENT
BEGIN:VEVENT
DTSTART;TZID=America/Chicago:20150321T100000
DTEND;TZID=America/Chicago:20150321T120000
DTSTAMP:20260423T044834
CREATED:20150303T192448Z
LAST-MODIFIED:20150303T192448Z
UID:15507-1426932000-1426939200@chicagocommunitygardens.org
SUMMARY:Tool Sharpening Workshop
DESCRIPTION:Tool Sharpening Workshop – RSVP for Wicker Park Address\n \nSaturday\, March 21\, 2015 at 10 am -12 noon \nHeld in Wicker Park Home – Address Given to Registered Students. \nRegistration Required – $15 – Sessions limited at 20 students. \nRSVP to wpgarden@aol.com    Pay at Door- Cash or Check \n  \nBring Your Garden Tools and Go Home with Sharpened Ones – pruners\, loppers\, trowels\, shovels\, hoes\, axes\, and shears.  You will learn the technique of how to use various tools to sharpen your garden and workshop tools.  No lawnmower blades or kitchen knives.
URL:https://chicagocommunitygardens.org/event/tool-sharpening-workshop/
LOCATION:WPGardnen’s Richard Tilley Workshop\, 2134 W. Pierce\, Chicago\, IL\, 60622\, United States
CATEGORIES:Workshop/Lecture
ATTACH;FMTTYPE=image/jpeg:https://chicagocommunitygardens.org/wp-content/uploads/2015/03/WickerToolSharpening.jpg
ORGANIZER;CN="Wicker Park Garden Club":MAILTO:Doug.Wood@WickerPark.org
END:VEVENT
BEGIN:VEVENT
DTSTART;TZID=America/Chicago:20150328T120000
DTEND;TZID=America/Chicago:20150328T150000
DTSTAMP:20260423T044834
CREATED:20150209T181818Z
LAST-MODIFIED:20150209T181818Z
UID:15329-1427544000-1427554800@chicagocommunitygardens.org
SUMMARY:Windy City Harvest: Small Farm Crop Planning
DESCRIPTION:Arturo Velasquez Institute Greenhouse\nChris Prochot\, Windy City Harvest incubator farm coordinator
URL:https://chicagocommunitygardens.org/event/windy-city-harvest-small-farm-crop-planning/
LOCATION:Chicago Botanic Garden\, 1000 Lake Cook Rd\, Glencoe\, IL\, 60022\, United States
CATEGORIES:Workshop/Lecture
ATTACH;FMTTYPE=image/png:https://chicagocommunitygardens.org/wp-content/uploads/2015/02/chicagobotanicgardenlogo.png
END:VEVENT
BEGIN:VEVENT
DTSTART;TZID=America/Chicago:20150328T130000
DTEND;TZID=America/Chicago:20150328T160000
DTSTAMP:20260423T044834
CREATED:20150317T162853Z
LAST-MODIFIED:20150317T162853Z
UID:16319-1427547600-1427558400@chicagocommunitygardens.org
SUMMARY:Composting Workshop - South Loop
DESCRIPTION:Do you want to live a more sustainable lifestyle? \nAre you concerned about the environment?  \nHow much food scraps and old leftovers are you throwing in the garbage? \nLearn how to turn kitchen scraps into gold…garden gold. In 3 hours\, you will learn why composting is effective and how you can compost in any residential setting. Learn lessons from South Loop Composting Ambassadors;  Community composting leaders invited to speak include Collective Resource\, The Plant\, Waste Management\, Columbia College and others! Walk away with a Composting Toolkit and materials to succeed. \nLike to grow things? Like being nice to the earth? Join an amazing line-up of composting Ambassadors and sustainable farming and gardening Leaders\, like the innovative vertical farm The Plant and the nation’s first industrial worm composting facility\, Nature’s Little Recyclers\, to learn about the power of composting.This hands-on workshop will introduce various types of composting and current systems in place for city-dwellers to use. Learn step-by-step how to set up a personal worm composting bin\, work with food waste-hauling companies like Pleasant Farms\, Waste Management and Collective Resources\, and the latest on outdoor composting City ordinances. Walk away with a Composting Toolkit\, a chance to win free starter-kits\, and other materials to succeed! \nFree Food!    Win Prizes!    Have Fun! \nHave questions? Contact SouthLoopComposting@gmail.com. \nCo-sponsored by Chicago Conservation Corps and the Alliance for a Greener South Loop.
URL:https://chicagocommunitygardens.org/event/composting-workshop-south-loop/
LOCATION:Daystar Center\, 1550 S. State St.\, Chicago\, IL\, 60605\, United States
CATEGORIES:Workshop/Lecture
ATTACH;FMTTYPE=image/bmp:https://chicagocommunitygardens.org/wp-content/uploads/2015/03/Logo-AGSL.bmp
END:VEVENT
END:VCALENDAR