BEGIN:VCALENDAR
VERSION:2.0
PRODID:-//Chicago Community Gardeners Association - ECPv6.15.16//NONSGML v1.0//EN
CALSCALE:GREGORIAN
METHOD:PUBLISH
X-WR-CALNAME:Chicago Community Gardeners Association
X-ORIGINAL-URL:https://chicagocommunitygardens.org
X-WR-CALDESC:Events for Chicago Community Gardeners Association
REFRESH-INTERVAL;VALUE=DURATION:PT1H
X-Robots-Tag:noindex
X-PUBLISHED-TTL:PT1H
BEGIN:VTIMEZONE
TZID:America/Chicago
BEGIN:DAYLIGHT
TZOFFSETFROM:-0600
TZOFFSETTO:-0500
TZNAME:CDT
DTSTART:20140309T080000
END:DAYLIGHT
BEGIN:STANDARD
TZOFFSETFROM:-0500
TZOFFSETTO:-0600
TZNAME:CST
DTSTART:20141102T070000
END:STANDARD
BEGIN:DAYLIGHT
TZOFFSETFROM:-0600
TZOFFSETTO:-0500
TZNAME:CDT
DTSTART:20150308T080000
END:DAYLIGHT
BEGIN:STANDARD
TZOFFSETFROM:-0500
TZOFFSETTO:-0600
TZNAME:CST
DTSTART:20151101T070000
END:STANDARD
BEGIN:DAYLIGHT
TZOFFSETFROM:-0600
TZOFFSETTO:-0500
TZNAME:CDT
DTSTART:20160313T080000
END:DAYLIGHT
BEGIN:STANDARD
TZOFFSETFROM:-0500
TZOFFSETTO:-0600
TZNAME:CST
DTSTART:20161106T070000
END:STANDARD
END:VTIMEZONE
BEGIN:VEVENT
DTSTART;TZID=America/Chicago:20151016T093000
DTEND;TZID=America/Chicago:20151016T130000
DTSTAMP:20260422T053823
CREATED:20151002T115822Z
LAST-MODIFIED:20151002T115822Z
UID:18577-1444987800-1445000400@chicagocommunitygardens.org
SUMMARY:Community Gardens Take Action Against Hunger
DESCRIPTION:Symposium on World Food Day \nWhat can community gardens do to address fresh produce access in their neighborhoods? Join us to share best practices and resources among community gardens\, food pantries and soup kitchens for donating and distributing food. \nWho should attend? Anyone interested in connecting community gardens to food pantries. Join us if you are interested in: becoming part of a community garden\, organizing a donation program from your current community garden\, improving your garden’s current donation program\, or if you are a pantry interested in accessing fresh produce grown in your neighborhood. \nSchedule: \n9:30-10:00am Registration \n10:00-10:45am Panel Discussion \n10:45-11:00am Break \n11:00am-Noon Breakout Sessions and Resource Sharing \nNoon-1pm Communal lunch sponsored by Chipotle Mexican Grill
URL:https://chicagocommunitygardens.org/event/community-gardens-take-action-against-hunger/
LOCATION:Broadway Armory Park\, 5713 N. Broadway \, Chicago\, IL\, 60660\, United States
CATEGORIES:Workshop/Lecture
ATTACH;FMTTYPE=image/jpeg:https://chicagocommunitygardens.org/wp-content/uploads/2015/10/Conferenceposter.jpg
END:VEVENT
BEGIN:VEVENT
DTSTART;TZID=America/Chicago:20151024T130000
DTEND;TZID=America/Chicago:20151024T150000
DTSTAMP:20260422T053823
CREATED:20151022T145918Z
LAST-MODIFIED:20151022T145918Z
UID:18676-1445691600-1445698800@chicagocommunitygardens.org
SUMMARY:Kilbourn Park Organic Greenhouse - Putting Gardens to Bed
DESCRIPTION:FRIENDS OF KILBOURN PARK ORGANIC GREENHOUSE EDUCATIONAL EVENTS \nOCTOBER AND NOVEMBER 2015 \nSAVE THESE DATES FOR THREE EDUCATIONAL EVENTS SPONSORED BY FRIENDS OF KPOGH IN OCTOBER AND NOVEMBER 2015 \n\nSATURDAY\, OCTOBER 24THAT 1 PM\n\nNANCY BENJAMIN\, MASTER GARDENER WILL GIVE A TALK ON RESTORING FERTILITY TO YOUR GARDEN AND PUTTING IT TO BED FOR THE SEASON. \nTHERE WILL BE A FIVE DOLLAR  CHARGE FOR THIS EVENT.  PLEASE LET Georgia Chilton\, (ghchilton@gmail.com) know by Wednesday\, October 21st\, if you plan to come. \n\nSATURDAY\, OCTOBER 31STFROM 1-3 PM\n\nPAM ROCK AND ROSEANNE SKONIECKE WILL DEMONSTRATE CANNING TECHNIQUES.  THEY WILL SHOW HOW TO MAKE CHAMPAGNE BLUSH JELLY AND APPLE CARMEL JAM. \nTHERE WILL BE TASTES OF THESE!!  YUM! YUM! \nTHERE WILL BE A $7.00 CASH CHARGE FOR THIS.  PLEASE LET Georgia Chilton\, (ghchilton@gmail.com know by Wednesday\, October 29th\, if you can come. \n\nSAVE THE DATE OF SATURDAY\, NOVEMBER 14TH!!\n\nDAVID SNYDER\, WILL GIVE A LECTURE ON FRUIT TREES. \nMORE INFORMATION ON THIS WILL FOLLOW!! \n\n CAMPFIRE STORYTIME\, NOVEMBER 11th FROM 4:30-6pm \n\nBring out the whole family to enjoy a night in the garden beside a campfire and enjoy the telling of stories from across the world. There will also be singing and crafting. Dress warmly\, event will be outside. \nFeel free to contact Renee Costanzo (renee.costanzo@chicagoparkdistrict.com) if you have questions.
URL:https://chicagocommunitygardens.org/event/kilbourn-park-organic-greenhouse-putting-gardens-to-bed/
LOCATION:Kilbourn Park Organic Greenhouse\, 3501 N. Kilbourn\, Chicago\, IL\, 60641\, United States
CATEGORIES:Workshop/Lecture
ATTACH;FMTTYPE=image/png:https://chicagocommunitygardens.org/wp-content/uploads/2015/10/Screen-Shot-2015-10-22-at-8.04.05-AM.png
END:VEVENT
END:VCALENDAR