BEGIN:VCALENDAR
VERSION:2.0
PRODID:-//Chicago Community Gardeners Association - ECPv6.15.16//NONSGML v1.0//EN
CALSCALE:GREGORIAN
METHOD:PUBLISH
X-WR-CALNAME:Chicago Community Gardeners Association
X-ORIGINAL-URL:https://chicagocommunitygardens.org
X-WR-CALDESC:Events for Chicago Community Gardeners Association
REFRESH-INTERVAL;VALUE=DURATION:PT1H
X-Robots-Tag:noindex
X-PUBLISHED-TTL:PT1H
BEGIN:VTIMEZONE
TZID:America/Chicago
BEGIN:DAYLIGHT
TZOFFSETFROM:-0600
TZOFFSETTO:-0500
TZNAME:CDT
DTSTART:20150308T080000
END:DAYLIGHT
BEGIN:STANDARD
TZOFFSETFROM:-0500
TZOFFSETTO:-0600
TZNAME:CST
DTSTART:20151101T070000
END:STANDARD
BEGIN:DAYLIGHT
TZOFFSETFROM:-0600
TZOFFSETTO:-0500
TZNAME:CDT
DTSTART:20160313T080000
END:DAYLIGHT
BEGIN:STANDARD
TZOFFSETFROM:-0500
TZOFFSETTO:-0600
TZNAME:CST
DTSTART:20161106T070000
END:STANDARD
BEGIN:DAYLIGHT
TZOFFSETFROM:-0600
TZOFFSETTO:-0500
TZNAME:CDT
DTSTART:20170312T080000
END:DAYLIGHT
BEGIN:STANDARD
TZOFFSETFROM:-0500
TZOFFSETTO:-0600
TZNAME:CST
DTSTART:20171105T070000
END:STANDARD
END:VTIMEZONE
BEGIN:VEVENT
DTSTART;TZID=America/Chicago:20160616T180000
DTEND;TZID=America/Chicago:20160616T190000
DTSTAMP:20260421T071421
CREATED:20160525T162927Z
LAST-MODIFIED:20160526T150213Z
UID:19384-1466100000-1466103600@chicagocommunitygardens.org
SUMMARY:Worm Bin Building Workshop
DESCRIPTION:Worm composting is an easy\, efficient way to recycle food wastes into a fine\, high-quality compost for your houseplants or garden. Join the Illinois Extension Master Gardener program and make your own take-home worm bin! This event is free\, but registration is required. Please contact communitygardens@chicagoparkdistrict.com to reserve your spot.
URL:https://chicagocommunitygardens.org/event/worm-bin-building-workshop/
LOCATION:IL
CATEGORIES:Workshop/Lecture
END:VEVENT
BEGIN:VEVENT
DTSTART;TZID=America/Chicago:20160623T180000
DTEND;TZID=America/Chicago:20160623T190000
DTSTAMP:20260421T071421
CREATED:20160525T163221Z
LAST-MODIFIED:20160526T150207Z
UID:19386-1466704800-1466708400@chicagocommunitygardens.org
SUMMARY:All About Herbs Workshop
DESCRIPTION:There are many ways to define an herb. A gardener may wish to choose herb plants that have culinary value\, aromatic value or medicinal value. And in addition to these traditional qualities\, many herbs also offer a great deal of ornamental value to the garden as well. Join the Illinois Extension Master Gardeners to learn all about herbs!
URL:https://chicagocommunitygardens.org/event/all-about-herbs-workshop/
LOCATION:IL
CATEGORIES:Workshop/Lecture
END:VEVENT
BEGIN:VEVENT
DTSTART;TZID=America/Chicago:20160630T180000
DTEND;TZID=America/Chicago:20160630T190000
DTSTAMP:20260421T071421
CREATED:20160525T164651Z
LAST-MODIFIED:20160526T144904Z
UID:19388-1467309600-1467313200@chicagocommunitygardens.org
SUMMARY:Small Space Gardening Workshop
DESCRIPTION:In an urban setting like Chicago\, many gardeners are limited in how much growing space they have to plant\, and constantly seek creative ways to navigate this challenge. Join staff from the Chicago Botanic Garden for a workshop on small space gardening\, and learn more about maximizing your gardening potential!
URL:https://chicagocommunitygardens.org/event/small-space-gardening-workshop/
LOCATION:IL
CATEGORIES:Workshop/Lecture
END:VEVENT
END:VCALENDAR