BEGIN:VCALENDAR
VERSION:2.0
PRODID:-//Chicago Community Gardeners Association - ECPv6.15.16//NONSGML v1.0//EN
CALSCALE:GREGORIAN
METHOD:PUBLISH
X-WR-CALNAME:Chicago Community Gardeners Association
X-ORIGINAL-URL:https://chicagocommunitygardens.org
X-WR-CALDESC:Events for Chicago Community Gardeners Association
REFRESH-INTERVAL;VALUE=DURATION:PT1H
X-Robots-Tag:noindex
X-PUBLISHED-TTL:PT1H
BEGIN:VTIMEZONE
TZID:America/Chicago
BEGIN:DAYLIGHT
TZOFFSETFROM:-0600
TZOFFSETTO:-0500
TZNAME:CDT
DTSTART:20150308T080000
END:DAYLIGHT
BEGIN:STANDARD
TZOFFSETFROM:-0500
TZOFFSETTO:-0600
TZNAME:CST
DTSTART:20151101T070000
END:STANDARD
BEGIN:DAYLIGHT
TZOFFSETFROM:-0600
TZOFFSETTO:-0500
TZNAME:CDT
DTSTART:20160313T080000
END:DAYLIGHT
BEGIN:STANDARD
TZOFFSETFROM:-0500
TZOFFSETTO:-0600
TZNAME:CST
DTSTART:20161106T070000
END:STANDARD
BEGIN:DAYLIGHT
TZOFFSETFROM:-0600
TZOFFSETTO:-0500
TZNAME:CDT
DTSTART:20170312T080000
END:DAYLIGHT
BEGIN:STANDARD
TZOFFSETFROM:-0500
TZOFFSETTO:-0600
TZNAME:CST
DTSTART:20171105T070000
END:STANDARD
END:VTIMEZONE
BEGIN:VEVENT
DTSTART;TZID=America/Chicago:20160707T180000
DTEND;TZID=America/Chicago:20160707T190000
DTSTAMP:20260421T055608
CREATED:20160525T165121Z
LAST-MODIFIED:20160526T144852Z
UID:19390-1467914400-1467918000@chicagocommunitygardens.org
SUMMARY:Beekeeping 101
DESCRIPTION:Bees are some of the hardest working creatures on the planet. In this 2 hour workshop\, join the Chicago Honey Co-op to learn what you will need to know before you make a decision to keep a beehive. We’ll cover beekeeping history\, life and habits of honeybees\, beekeeping equipment\, Chicago beekeeping rules and best practices for managing a beehive. For more information\, please contact communitygardens@chicagoparkdistrict.com.
URL:https://chicagocommunitygardens.org/event/beekeeping-101/
LOCATION:IL
CATEGORIES:Workshop/Lecture
END:VEVENT
BEGIN:VEVENT
DTSTART;TZID=America/Chicago:20160714T180000
DTEND;TZID=America/Chicago:20160714T180000
DTSTAMP:20260421T055608
CREATED:20160525T165706Z
LAST-MODIFIED:20160526T144837Z
UID:19392-1468519200-1468519200@chicagocommunitygardens.org
SUMMARY:Garden to Go
DESCRIPTION:Kids (and parents) who grow their own vegetables are more likely to eat them. Join us for a cooking demonstration using freshly harvested produce from the garden that the whole family can enjoy! For more information\, please contact communitygardens@chicagoparkdistrict.com.
URL:https://chicagocommunitygardens.org/event/garden-to-go-3/
LOCATION:IL
CATEGORIES:Workshop/Lecture
END:VEVENT
BEGIN:VEVENT
DTSTART;TZID=America/Chicago:20160721T180000
DTEND;TZID=America/Chicago:20160721T190000
DTSTAMP:20260421T055608
CREATED:20160525T170307Z
LAST-MODIFIED:20160630T181456Z
UID:19394-1469124000-1469127600@chicagocommunitygardens.org
SUMMARY:Container Herb Gardening Workshop
DESCRIPTION:Herbs are extremely useful and attractive when used in containers. A single herb can be grown in a container as a specimen plant or several herbs can be planted together to give the balcony or patio gardener a functional culinary herb garden. Join the Illinois Extension Master Gardeners and create your own container herb garden! This workshop is free\, but registration is limited. Please contact communitygardens@chicagoparkdistrict.com to sign up!
URL:https://chicagocommunitygardens.org/event/container-herb-gardening-workshop/
LOCATION:IL
CATEGORIES:Workshop/Lecture
END:VEVENT
BEGIN:VEVENT
DTSTART;TZID=America/Chicago:20160728T180000
DTEND;TZID=America/Chicago:20160728T193000
DTSTAMP:20260421T055608
CREATED:20160525T170517Z
LAST-MODIFIED:20160526T144815Z
UID:19396-1469728800-1469734200@chicagocommunitygardens.org
SUMMARY:Garden to Go
DESCRIPTION:Kids (and parents) who grow their own vegetables are more likely to eat them. Join us for a cooking demonstration using freshly harvested produce from the garden that the whole family can enjoy! For more information\, please contact communitygardens@chicagoparkdistrict.com. \n 
URL:https://chicagocommunitygardens.org/event/garden-to-go-2/
LOCATION:IL
CATEGORIES:Workshop/Lecture
END:VEVENT
END:VCALENDAR