BEGIN:VCALENDAR
VERSION:2.0
PRODID:-//Chicago Community Gardeners Association - ECPv6.15.16//NONSGML v1.0//EN
CALSCALE:GREGORIAN
METHOD:PUBLISH
X-WR-CALNAME:Chicago Community Gardeners Association
X-ORIGINAL-URL:https://chicagocommunitygardens.org
X-WR-CALDESC:Events for Chicago Community Gardeners Association
REFRESH-INTERVAL;VALUE=DURATION:PT1H
X-Robots-Tag:noindex
X-PUBLISHED-TTL:PT1H
BEGIN:VTIMEZONE
TZID:America/Chicago
BEGIN:DAYLIGHT
TZOFFSETFROM:-0600
TZOFFSETTO:-0500
TZNAME:CDT
DTSTART:20150308T080000
END:DAYLIGHT
BEGIN:STANDARD
TZOFFSETFROM:-0500
TZOFFSETTO:-0600
TZNAME:CST
DTSTART:20151101T070000
END:STANDARD
BEGIN:DAYLIGHT
TZOFFSETFROM:-0600
TZOFFSETTO:-0500
TZNAME:CDT
DTSTART:20160313T080000
END:DAYLIGHT
BEGIN:STANDARD
TZOFFSETFROM:-0500
TZOFFSETTO:-0600
TZNAME:CST
DTSTART:20161106T070000
END:STANDARD
BEGIN:DAYLIGHT
TZOFFSETFROM:-0600
TZOFFSETTO:-0500
TZNAME:CDT
DTSTART:20170312T080000
END:DAYLIGHT
BEGIN:STANDARD
TZOFFSETFROM:-0500
TZOFFSETTO:-0600
TZNAME:CST
DTSTART:20171105T070000
END:STANDARD
END:VTIMEZONE
BEGIN:VEVENT
DTSTART;TZID=America/Chicago:20160804T180000
DTEND;TZID=America/Chicago:20160804T190000
DTSTAMP:20260421T043455
CREATED:20160525T171332Z
LAST-MODIFIED:20160531T154810Z
UID:19398-1470333600-1470337200@chicagocommunitygardens.org
SUMMARY:Pine Cone Bird Feeders Workshop
DESCRIPTION:Feeding the birds is a fun activity for the whole family. Join Illinois Extension Master Gardeners to make and take home your own pine cone bird feeders. For more information\, please contact communitygardens@chicagoparkdistrict.com.
URL:https://chicagocommunitygardens.org/event/pine-cone-bird-feeders-workshop/
LOCATION:Community Roots Demonstration Garden at Skinner Park\, 1331 W Adams St\, Chicago\, IL\, 60607\, United States
CATEGORIES:Workshop/Lecture
END:VEVENT
BEGIN:VEVENT
DTSTART;TZID=America/Chicago:20160818T180000
DTEND;TZID=America/Chicago:20160818T190000
DTSTAMP:20260421T043455
CREATED:20160525T171623Z
LAST-MODIFIED:20160526T144800Z
UID:19400-1471543200-1471546800@chicagocommunitygardens.org
SUMMARY:Native Pollinators Safari
DESCRIPTION:Honeybees aren’t the only pollinating insects. There are many varieties of native bees\, wasps and flies that pollinate the plants we see around us every day. Armed with an identification sheet\, go on the hunt with the Chicago Honey Co-op for native species and see how many you can find! For more information\, please contact communitygardens@chicagoparkdistrict.com.
URL:https://chicagocommunitygardens.org/event/native-pollinators-safari/
LOCATION:IL
CATEGORIES:Workshop/Lecture
END:VEVENT
BEGIN:VEVENT
DTSTART;TZID=America/Chicago:20160825T180000
DTEND;TZID=America/Chicago:20160825T190000
DTSTAMP:20260421T043455
CREATED:20160525T171926Z
LAST-MODIFIED:20160526T144755Z
UID:19402-1472148000-1472151600@chicagocommunitygardens.org
SUMMARY:Perennial Gardening
DESCRIPTION:Keep your perennial garden growing and blooming successfully with a few valuable lessons from the staff at the Chicago Botanic Garden. For more information\, please contact communitygardens@chicagoparkdistrict.com.
URL:https://chicagocommunitygardens.org/event/perennial-gardening/
LOCATION:IL
CATEGORIES:Workshop/Lecture
END:VEVENT
BEGIN:VEVENT
DTSTART;TZID=America/Chicago:20160827T100000
DTEND;TZID=America/Chicago:20160827T110000
DTSTAMP:20260421T043455
CREATED:20160525T172304Z
LAST-MODIFIED:20160526T144749Z
UID:19404-1472292000-1472295600@chicagocommunitygardens.org
SUMMARY:Garden to Go
DESCRIPTION:Kids (and parents) who grow their own vegetables are more likely to eat them. Join us for a cooking demonstration using freshly harvested produce from the garden that the whole family can enjoy! For more information\, please contact communitygardens@chicagoparkdistrict.com.
URL:https://chicagocommunitygardens.org/event/garden-to-go/
LOCATION:IL
CATEGORIES:Workshop/Lecture
END:VEVENT
END:VCALENDAR