BEGIN:VCALENDAR
VERSION:2.0
PRODID:-//Chicago Community Gardeners Association - ECPv6.15.16//NONSGML v1.0//EN
CALSCALE:GREGORIAN
METHOD:PUBLISH
X-WR-CALNAME:Chicago Community Gardeners Association
X-ORIGINAL-URL:https://chicagocommunitygardens.org
X-WR-CALDESC:Events for Chicago Community Gardeners Association
REFRESH-INTERVAL;VALUE=DURATION:PT1H
X-Robots-Tag:noindex
X-PUBLISHED-TTL:PT1H
BEGIN:VTIMEZONE
TZID:America/Chicago
BEGIN:DAYLIGHT
TZOFFSETFROM:-0600
TZOFFSETTO:-0500
TZNAME:CDT
DTSTART:20160313T080000
END:DAYLIGHT
BEGIN:STANDARD
TZOFFSETFROM:-0500
TZOFFSETTO:-0600
TZNAME:CST
DTSTART:20161106T070000
END:STANDARD
BEGIN:DAYLIGHT
TZOFFSETFROM:-0600
TZOFFSETTO:-0500
TZNAME:CDT
DTSTART:20170312T080000
END:DAYLIGHT
BEGIN:STANDARD
TZOFFSETFROM:-0500
TZOFFSETTO:-0600
TZNAME:CST
DTSTART:20171105T070000
END:STANDARD
BEGIN:DAYLIGHT
TZOFFSETFROM:-0600
TZOFFSETTO:-0500
TZNAME:CDT
DTSTART:20180311T080000
END:DAYLIGHT
BEGIN:STANDARD
TZOFFSETFROM:-0500
TZOFFSETTO:-0600
TZNAME:CST
DTSTART:20181104T070000
END:STANDARD
END:VTIMEZONE
BEGIN:VEVENT
DTSTART;TZID=America/Chicago:20170304T100000
DTEND;TZID=America/Chicago:20170304T120000
DTSTAMP:20260420T123438
CREATED:20170208T165052Z
LAST-MODIFIED:20170208T165247Z
UID:20186-1488621600-1488628800@chicagocommunitygardens.org
SUMMARY:CCGA Seed Starting Workshop
DESCRIPTION:CCGA Resources Committee\nPresents\nA New Event for 2017!\n“Begin the Garden Season with a Seed Starting Workshop”\nIncluding: a Starter Kit and Vegetable Seeds for Your Community Garden.\nWe are putting together “starter kits” of twenty different kinds of 2017 vegetable seeds* carefully chosen and purchased by the Resources Committee from reputable companies like Johnny’s Seeds. The Starter Kit also includes a booklet of directions\, seed starting tray\, and seed starting mix.\nNick Michaud of Westover Farms\, an experienced horticulturalist\, will talk about seed starting and give recommendations on growing each of the different vegetables included in the kit followed by a Q & A session. Additionally\, participants will receive an array of donated seeds suitably qualifiedfor Chicago Community Gardens. \nThis workshop is open to Chicago Community Gardeners\n(Your garden must be open and accessible to the public)\nSaturday\, March 4\, 2017- 10 a.m. to 12 p.m.\nThe Center for Green Technology\n445 N. Sacramento\nRegistration: FREE\nThanks to the great participation of Chicago Community Gardeners in last year’s events!\nWe thank you\, and as always the Resources Committee is committed to spending the money we\nreceive from you on helpful materials for your gardens.\nPlease email Mamie Gray at mamie@uic.edu (your name\, name and address of your garden)ASAP as space is limited. (For quick questions\, call 708-990-7939.)\n*the Starter Kits include seeds for: spinach\, sugar snap peas\, zucchini\, eggplant (2 types)\, beets\, tomatoes (4 types)\,\npeppers (2 types)\, cucumbers\, kale (2 types)\, lettuce (3 types)\, snap beans\, bush beans\, pole beans\, Swiss chard\,\nradishes\, fennel\, and a “Bee and Butterfly flower mix.” One kit per garden.\nThank you to NeighborSpace for your help and support.
URL:https://chicagocommunitygardens.org/event/ccga-seed-starting-workshop/
LOCATION:Chicago Center for Green Technology (CCGT)\, 445 N Sacramento\, Chicago\, IL\, 60612\, United States
CATEGORIES:Workshop/Lecture
ATTACH;FMTTYPE=image/jpeg:https://chicagocommunitygardens.org/wp-content/uploads/2014/12/CCGA-save-the-date-banner.jpg
END:VEVENT
BEGIN:VEVENT
DTSTART;TZID=America/Chicago:20170320T070000
DTEND;TZID=America/Chicago:20170320T200000
DTSTAMP:20260420T123438
CREATED:20170314T014613Z
LAST-MODIFIED:20180125T005840Z
UID:20357-1489993200-1490040000@chicagocommunitygardens.org
SUMMARY:Lecture:  In the Garden: What’s New\, What’s Old and What Works
DESCRIPTION:Montrose Metra Community Garden – Green & Growing Speaker Series  \nPresented by Montrose Metra Community Gardens\, the Ravenswood Manor Garden Club and Chicago Public Library \nAt The Sulzer Regional Library\, 4455 N. Lincoln Avenue Chicago IL 60625 \nMonday\, March 20 at 7pm\nIn the Garden: What’s New\, What’s Old and What Works\nSpeaker: Jennifer Paravola & Janella\nSykes of Farmer’s Market Garden Center \nAll Events are free to attend.\nRSVP at facebook.com/montrosemetragardens or email montrosemetragardens@gmail.com for more information. \n\nDownload (PDF\, 92KB)
URL:https://chicagocommunitygardens.org/event/lecture-in-the-garden-whats-new-whats-old-and-what-works/
LOCATION:Sulzer Regional Library\, 4455 N Lincoln Ave\, Chicago\, IL\, 60625\, United States
CATEGORIES:Workshop/Lecture
ORGANIZER;CN="Montrose Metra Community Gardens":MAILTO:montrosemetragardens@gmail.com
END:VEVENT
BEGIN:VEVENT
DTSTART;TZID=America/Chicago:20170326T130000
DTEND;TZID=America/Chicago:20170326T160000
DTSTAMP:20260420T123438
CREATED:20170314T013707Z
LAST-MODIFIED:20180125T005821Z
UID:20353-1490533200-1490544000@chicagocommunitygardens.org
SUMMARY:Midwest Fruit Explorers (MidFEx) Tree Grafting Workshop
DESCRIPTION:See our full site post HERE.
URL:https://chicagocommunitygardens.org/event/midwest-fruit-explorers-midfex-tree-grafting-workshop/
LOCATION:Chicago Botanic Garden\, 1000 Lake Cook Rd\, Glencoe\, IL\, 60022\, United States
CATEGORIES:Plant Distribution/Swap,Sale,Workshop/Lecture
END:VEVENT
END:VCALENDAR