BEGIN:VCALENDAR
VERSION:2.0
PRODID:-//Chicago Community Gardeners Association - ECPv6.15.16//NONSGML v1.0//EN
CALSCALE:GREGORIAN
METHOD:PUBLISH
X-WR-CALNAME:Chicago Community Gardeners Association
X-ORIGINAL-URL:https://chicagocommunitygardens.org
X-WR-CALDESC:Events for Chicago Community Gardeners Association
REFRESH-INTERVAL;VALUE=DURATION:PT1H
X-Robots-Tag:noindex
X-PUBLISHED-TTL:PT1H
BEGIN:VTIMEZONE
TZID:America/Chicago
BEGIN:DAYLIGHT
TZOFFSETFROM:-0600
TZOFFSETTO:-0500
TZNAME:CDT
DTSTART:20140309T080000
END:DAYLIGHT
BEGIN:STANDARD
TZOFFSETFROM:-0500
TZOFFSETTO:-0600
TZNAME:CST
DTSTART:20141102T070000
END:STANDARD
BEGIN:DAYLIGHT
TZOFFSETFROM:-0600
TZOFFSETTO:-0500
TZNAME:CDT
DTSTART:20150308T080000
END:DAYLIGHT
BEGIN:STANDARD
TZOFFSETFROM:-0500
TZOFFSETTO:-0600
TZNAME:CST
DTSTART:20151101T070000
END:STANDARD
BEGIN:DAYLIGHT
TZOFFSETFROM:-0600
TZOFFSETTO:-0500
TZNAME:CDT
DTSTART:20160313T080000
END:DAYLIGHT
BEGIN:STANDARD
TZOFFSETFROM:-0500
TZOFFSETTO:-0600
TZNAME:CST
DTSTART:20161106T070000
END:STANDARD
END:VTIMEZONE
BEGIN:VEVENT
DTSTART;TZID=America/Chicago:20150307T090000
DTEND;TZID=America/Chicago:20150307T120000
DTSTAMP:20260423T060919
CREATED:20150209T180911Z
LAST-MODIFIED:20150209T180911Z
UID:15325-1425718800-1425729600@chicagocommunitygardens.org
SUMMARY:Windy City Harvest: Small Farm Season Extension
DESCRIPTION:Arturo Velasquez Institute Greenhouse\nBritt Calendo\, Windy City Harvest PCC wellness farm coordinator.\n$39 \nLearn how to extend your spring or fall growing season to 9-months or even year round production. Explore what crops and varieties perform best in Chicago. Specific techniques will be covered such as using row cover\, building simple low tunnels and cold frames or even creating protected cultivation in a hoophouse. This workshop includes a hands-on basic low tunnel build out activity. This workshop is instructed by Britt Calendo\, WCH PCC Wellness Farm Coordinator.
URL:https://chicagocommunitygardens.org/event/windy-city-harvest-small-farm-season-extension/
LOCATION:Chicago Botanic Garden\, 1000 Lake Cook Rd\, Glencoe\, IL\, 60022\, United States
CATEGORIES:Workshop/Lecture
ATTACH;FMTTYPE=image/png:https://chicagocommunitygardens.org/wp-content/uploads/2015/02/chicagobotanicgardenlogo.png
END:VEVENT
BEGIN:VEVENT
DTSTART;TZID=America/Chicago:20150307T100000
DTEND;TZID=America/Chicago:20150307T120000
DTSTAMP:20260423T060919
CREATED:20150223T171930Z
LAST-MODIFIED:20150223T171930Z
UID:15390-1425722400-1425729600@chicagocommunitygardens.org
SUMMARY:Honeybees and Horticulture
DESCRIPTION:Free Adult Workshop: Honeybees and Horticulture\nBeekeeping is an ancient craft\, practiced in all world cultures except the arctic. Deep respect is acquired from learning about what bees and other migrating animals eat in our neighborhoods. Foraging only nectar and pollen\, honeybees produce clean\, healthy food that embodies our environment in taste\, texture and beauty. Prairie remnants provide an amazing pallet of perennials and annual wild flowers that many of us don’t recognize. The presentation will show the trees\, shrubs and other flowering plants that are essential for insect health and which abound in the Chicago region in restoration prairies\, neglected lots\, and local backyards. Presented by Michael Thompson\, Farm Manager\, Chicago Honey Co-op.
URL:https://chicagocommunitygardens.org/event/honeybees-and-horticulture/
LOCATION:Chicago Cultural Center\, 78 E Washington St\, Chicago\, IL\, United States
CATEGORIES:Workshop/Lecture
ATTACH;FMTTYPE=image/jpeg:https://chicagocommunitygardens.org/wp-content/uploads/2015/02/lurie_garden_logo.jpg
ORGANIZER;CN="Michael S. Thompson%2C Chicago Honey Co-Op":MAILTO:michael.honeycoop@gmail.com
END:VEVENT
END:VCALENDAR