BEGIN:VCALENDAR
VERSION:2.0
PRODID:-//Chicago Community Gardeners Association - ECPv6.15.16//NONSGML v1.0//EN
CALSCALE:GREGORIAN
METHOD:PUBLISH
X-ORIGINAL-URL:https://chicagocommunitygardens.org
X-WR-CALDESC:Events for Chicago Community Gardeners Association
REFRESH-INTERVAL;VALUE=DURATION:PT1H
X-Robots-Tag:noindex
X-PUBLISHED-TTL:PT1H
BEGIN:VTIMEZONE
TZID:America/Chicago
BEGIN:DAYLIGHT
TZOFFSETFROM:-0600
TZOFFSETTO:-0500
TZNAME:CDT
DTSTART:20250309T080000
END:DAYLIGHT
BEGIN:STANDARD
TZOFFSETFROM:-0500
TZOFFSETTO:-0600
TZNAME:CST
DTSTART:20251102T070000
END:STANDARD
BEGIN:DAYLIGHT
TZOFFSETFROM:-0600
TZOFFSETTO:-0500
TZNAME:CDT
DTSTART:20260308T080000
END:DAYLIGHT
BEGIN:STANDARD
TZOFFSETFROM:-0500
TZOFFSETTO:-0600
TZNAME:CST
DTSTART:20261101T070000
END:STANDARD
BEGIN:DAYLIGHT
TZOFFSETFROM:-0600
TZOFFSETTO:-0500
TZNAME:CDT
DTSTART:20270314T080000
END:DAYLIGHT
BEGIN:STANDARD
TZOFFSETFROM:-0500
TZOFFSETTO:-0600
TZNAME:CST
DTSTART:20271107T070000
END:STANDARD
END:VTIMEZONE
BEGIN:VEVENT
DTSTART;TZID=America/Chicago:20260712T120000
DTEND;TZID=America/Chicago:20260712T170000
DTSTAMP:20260424T014956
CREATED:20260414T171940Z
LAST-MODIFIED:20260414T171940Z
UID:37621-1783857600-1783875600@chicagocommunitygardens.org
SUMMARY:Edgewater Glen Association Garden Walk
DESCRIPTION:Enjoy the creativity of our local gardeners in this compact\, easily walkable far north side city neighborhood which has been holding this event since 1973. Plenty of free street parking available. Held rain or shine. \nStarting point and maps at 1354 W. Norwood (6000N).
URL:https://chicagocommunitygardens.org/event/edgewater-glen-association-garden-walk/
LOCATION:Edgewater Glen Neighborhood\, Chicago\, 60660\, United States
ORGANIZER;CN="Edgewater Glen Association":MAILTO:egachicago@gmail.com
END:VEVENT
END:VCALENDAR