BEGIN:VCALENDAR
VERSION:2.0
PRODID:-//Chicago Community Gardeners Association - ECPv6.15.16//NONSGML v1.0//EN
CALSCALE:GREGORIAN
METHOD:PUBLISH
X-ORIGINAL-URL:https://chicagocommunitygardens.org
X-WR-CALDESC:Events for Chicago Community Gardeners Association
REFRESH-INTERVAL;VALUE=DURATION:PT1H
X-Robots-Tag:noindex
X-PUBLISHED-TTL:PT1H
BEGIN:VTIMEZONE
TZID:America/Chicago
BEGIN:DAYLIGHT
TZOFFSETFROM:-0600
TZOFFSETTO:-0500
TZNAME:CDT
DTSTART:20180311T080000
END:DAYLIGHT
BEGIN:STANDARD
TZOFFSETFROM:-0500
TZOFFSETTO:-0600
TZNAME:CST
DTSTART:20181104T070000
END:STANDARD
BEGIN:DAYLIGHT
TZOFFSETFROM:-0600
TZOFFSETTO:-0500
TZNAME:CDT
DTSTART:20190310T080000
END:DAYLIGHT
BEGIN:STANDARD
TZOFFSETFROM:-0500
TZOFFSETTO:-0600
TZNAME:CST
DTSTART:20191103T070000
END:STANDARD
BEGIN:DAYLIGHT
TZOFFSETFROM:-0600
TZOFFSETTO:-0500
TZNAME:CDT
DTSTART:20200308T080000
END:DAYLIGHT
BEGIN:STANDARD
TZOFFSETFROM:-0500
TZOFFSETTO:-0600
TZNAME:CST
DTSTART:20201101T070000
END:STANDARD
END:VTIMEZONE
BEGIN:VEVENT
DTSTART;TZID=America/Chicago:20190803T100000
DTEND;TZID=America/Chicago:20190803T170000
DTSTAMP:20260419T213725
CREATED:20190802T164817Z
LAST-MODIFIED:20190802T164817Z
UID:22619-1564826400-1564851600@chicagocommunitygardens.org
SUMMARY:Austin Green Team Garden Tour 2019
DESCRIPTION:Join us Saturday August 3 from 10am-5pm for a family community event with a FREE bus tour of our beautiful gardens followed by food\, games and more! To reserve your spot on the bus\, go to austingreenteam.org/tour.  \nFor more info\, call Tina at 312-238.8992
URL:https://chicagocommunitygardens.org/event/austin-green-team-garden-tour-2019/
CATEGORIES:Tour
ORGANIZER;CN="Austin Green Team":MAILTO:austingreenteam1@gmail.com
END:VEVENT
END:VCALENDAR