BEGIN:VCALENDAR
VERSION:2.0
PRODID:-//Chicago Community Gardeners Association - ECPv6.15.16//NONSGML v1.0//EN
CALSCALE:GREGORIAN
METHOD:PUBLISH
X-ORIGINAL-URL:https://chicagocommunitygardens.org
X-WR-CALDESC:Events for Chicago Community Gardeners Association
REFRESH-INTERVAL;VALUE=DURATION:PT1H
X-Robots-Tag:noindex
X-PUBLISHED-TTL:PT1H
BEGIN:VTIMEZONE
TZID:America/Chicago
BEGIN:DAYLIGHT
TZOFFSETFROM:-0600
TZOFFSETTO:-0500
TZNAME:CDT
DTSTART:20190310T080000
END:DAYLIGHT
BEGIN:STANDARD
TZOFFSETFROM:-0500
TZOFFSETTO:-0600
TZNAME:CST
DTSTART:20191103T070000
END:STANDARD
BEGIN:DAYLIGHT
TZOFFSETFROM:-0600
TZOFFSETTO:-0500
TZNAME:CDT
DTSTART:20200308T080000
END:DAYLIGHT
BEGIN:STANDARD
TZOFFSETFROM:-0500
TZOFFSETTO:-0600
TZNAME:CST
DTSTART:20201101T070000
END:STANDARD
BEGIN:DAYLIGHT
TZOFFSETFROM:-0600
TZOFFSETTO:-0500
TZNAME:CDT
DTSTART:20210314T080000
END:DAYLIGHT
BEGIN:STANDARD
TZOFFSETFROM:-0500
TZOFFSETTO:-0600
TZNAME:CST
DTSTART:20211107T070000
END:STANDARD
END:VTIMEZONE
BEGIN:VEVENT
DTSTART;TZID=America/Chicago:20200321T090000
DTEND;TZID=America/Chicago:20200321T143000
DTSTAMP:20260424T071317
CREATED:20200305T023058Z
LAST-MODIFIED:20200313T004404Z
UID:23507-1584781200-1584801000@chicagocommunitygardens.org
SUMMARY:CCGA 8th Annual Conference - POSTPONED
DESCRIPTION:This year’s theme\, “Connections through Gardening: Plants\, People and the Environment\,” aims to explore and celebrate the interconnectedness of our shared garden work and to foster relationships and conversations that shape and support best practices for sustainable living and growing in Chicago. \nCommunity gardens are increasingly seen as a viable means of promoting restoration\, transformation\, and conservation of often abandoned or under used property in the city. They have become a powerful tool for promoting good nutrition\, physical activity\, environmental stewardship\, and social connections. \nJoin us on Saturday\, March 21 for an exciting and informative gathering of Chicago’s amazing community gardeners!
URL:https://chicagocommunitygardens.org/event/ccga-8th-annual-conference/
LOCATION:Whitney Young Magnet High School\, 211 South Laflin Street\, Chicago\, IL\, 60607\, United States
CATEGORIES:Meeting/Conference
ATTACH;FMTTYPE=image/png:https://chicagocommunitygardens.org/wp-content/uploads/2020/02/CCGA-2020Conf-Logo-e1581293632100.png
END:VEVENT
END:VCALENDAR