BEGIN:VCALENDAR
VERSION:2.0
PRODID:-//Chicago Community Gardeners Association - ECPv6.15.16//NONSGML v1.0//EN
CALSCALE:GREGORIAN
METHOD:PUBLISH
X-WR-CALNAME:Chicago Community Gardeners Association
X-ORIGINAL-URL:https://chicagocommunitygardens.org
X-WR-CALDESC:Events for Chicago Community Gardeners Association
REFRESH-INTERVAL;VALUE=DURATION:PT1H
X-Robots-Tag:noindex
X-PUBLISHED-TTL:PT1H
BEGIN:VTIMEZONE
TZID:America/Chicago
BEGIN:DAYLIGHT
TZOFFSETFROM:-0600
TZOFFSETTO:-0500
TZNAME:CDT
DTSTART:20140309T080000
END:DAYLIGHT
BEGIN:STANDARD
TZOFFSETFROM:-0500
TZOFFSETTO:-0600
TZNAME:CST
DTSTART:20141102T070000
END:STANDARD
BEGIN:DAYLIGHT
TZOFFSETFROM:-0600
TZOFFSETTO:-0500
TZNAME:CDT
DTSTART:20150308T080000
END:DAYLIGHT
BEGIN:STANDARD
TZOFFSETFROM:-0500
TZOFFSETTO:-0600
TZNAME:CST
DTSTART:20151101T070000
END:STANDARD
BEGIN:DAYLIGHT
TZOFFSETFROM:-0600
TZOFFSETTO:-0500
TZNAME:CDT
DTSTART:20160313T080000
END:DAYLIGHT
BEGIN:STANDARD
TZOFFSETFROM:-0500
TZOFFSETTO:-0600
TZNAME:CST
DTSTART:20161106T070000
END:STANDARD
END:VTIMEZONE
BEGIN:VEVENT
DTSTART;TZID=America/Chicago:20150516T090000
DTEND;TZID=America/Chicago:20150516T120000
DTSTAMP:20260421T103228
CREATED:20150209T182441Z
LAST-MODIFIED:20150209T182441Z
UID:15332-1431766800-1431777600@chicagocommunitygardens.org
SUMMARY:Windy City Harvest: Pest & Disease Control
DESCRIPTION:Arturo Velasquez Institute Greenhouse\nRosario Maldonado\, Sales Coordinator\, WCH Apprenticeship & Corps\n$39\nHave you had troubles with pests getting to your crops before you can? Learn how to take preventative measures to make sure you do not invite pests or disease in the first place. This workshop will also cover: common vegetable pests in Chicago\, their life cycle and how to use sustainable sprays or barriers to control. Common diseases will also be identified. Everyone will do a “scouting” pest and disease walk of the AVI farm site.
URL:https://chicagocommunitygardens.org/event/windy-city-harvest-pest-disease-control/
LOCATION:Chicago Botanic Garden\, 1000 Lake Cook Rd\, Glencoe\, IL\, 60022\, United States
CATEGORIES:Workshop/Lecture
ATTACH;FMTTYPE=image/png:https://chicagocommunitygardens.org/wp-content/uploads/2015/02/chicagobotanicgardenlogo.png
END:VEVENT
END:VCALENDAR