BEGIN:VCALENDAR
VERSION:2.0
PRODID:-//Chicago Community Gardeners Association - ECPv6.15.16//NONSGML v1.0//EN
CALSCALE:GREGORIAN
METHOD:PUBLISH
X-ORIGINAL-URL:https://chicagocommunitygardens.org
X-WR-CALDESC:Events for Chicago Community Gardeners Association
REFRESH-INTERVAL;VALUE=DURATION:PT1H
X-Robots-Tag:noindex
X-PUBLISHED-TTL:PT1H
BEGIN:VTIMEZONE
TZID:America/Chicago
BEGIN:DAYLIGHT
TZOFFSETFROM:-0600
TZOFFSETTO:-0500
TZNAME:CDT
DTSTART:20150308T080000
END:DAYLIGHT
BEGIN:STANDARD
TZOFFSETFROM:-0500
TZOFFSETTO:-0600
TZNAME:CST
DTSTART:20151101T070000
END:STANDARD
BEGIN:DAYLIGHT
TZOFFSETFROM:-0600
TZOFFSETTO:-0500
TZNAME:CDT
DTSTART:20160313T080000
END:DAYLIGHT
BEGIN:STANDARD
TZOFFSETFROM:-0500
TZOFFSETTO:-0600
TZNAME:CST
DTSTART:20161106T070000
END:STANDARD
BEGIN:DAYLIGHT
TZOFFSETFROM:-0600
TZOFFSETTO:-0500
TZNAME:CDT
DTSTART:20170312T080000
END:DAYLIGHT
BEGIN:STANDARD
TZOFFSETFROM:-0500
TZOFFSETTO:-0600
TZNAME:CST
DTSTART:20171105T070000
END:STANDARD
END:VTIMEZONE
BEGIN:VEVENT
DTSTART;TZID=America/Chicago:20160506T120000
DTEND;TZID=America/Chicago:20160506T160000
DTSTAMP:20260422T111520
CREATED:20160419T152158Z
LAST-MODIFIED:20160419T152740Z
UID:19238-1462536000-1462550400@chicagocommunitygardens.org
SUMMARY:Peterson Garden Project Plant & Bake Sale: Hot Crops
DESCRIPTION:Shop the Peterson Garden Project Pop-Up Plant Sale and get your garden growing! This year’s plant sale is going to be our biggest yet! We’ll have a wide selection of plants\, seeds and seedlings. And since this is Chicago gardening\, we’ve curated the selection of plants with small spaces and wacky weather in mind – including some varieties not available anywhere else in Chicago – such as a dwarf tomato grown exclusively for Peterson Garden Project. We’ll also have a range of edible flowers\, herbs and a soil salon – everything you need to help you get your 2016 garden in shape. Plus\, we’ll have expert gardeners on hand to help with plant selection and offer advice. The May sale will also include a bake sale and special events for Mom on Mother’s Day.  \nSALE HOURS\nFRI 5/6: 12PM – 4PM\nSAT 5/7: 10AM – 4PM\nSUN 5/8: 10AM – 4PM \nFind a list of plants that will be available and more details about the plant sales here. \nThis is Peterson Garden Project’s biggest fundraiser of the year. Proceeds from the plant sale help fund our community gardens and community cooking school. Buy local and grow local.
URL:https://chicagocommunitygardens.org/event/peterson-garden-project-plant-bake-sale-hot-crops/
LOCATION:5035 North Broadway\, Chicago\, IL 60640\, 5035 N Broadway\, Chicago\, IL\, 60640\, United States
CATEGORIES:Fundraiser,Sale
ATTACH;FMTTYPE=image/jpeg:https://chicagocommunitygardens.org/wp-content/uploads/2016/04/12961542_1112559905450613_1760123411232656827_n.jpg
END:VEVENT
BEGIN:VEVENT
DTSTART;TZID=America/Chicago:20160507T093000
DTEND;TZID=America/Chicago:20160507T123000
DTSTAMP:20260422T111520
CREATED:20160503T200335Z
LAST-MODIFIED:20160503T200335Z
UID:19294-1462613400-1462624200@chicagocommunitygardens.org
SUMMARY:Openlands presents "Organizing Your Community Garden" Training
DESCRIPTION:Join us to learn how to organize all aspects of the garden from recruiting members and gaining supporters to practical ways to self organize including using apps to keep track of projects. We will also show you how to create a design map for your site. Sign up here! \nFor more info contact us at gardens@openlands.org.
URL:https://chicagocommunitygardens.org/event/openlands-presents-organizing-your-community-garden-training/
LOCATION:Breakthrough Ministries Familyplex\, 3219 W. Carroll Ave.\, Chicago\, IL\, 60624\, United States
CATEGORIES:Workshop/Lecture
END:VEVENT
BEGIN:VEVENT
DTSTART;TZID=America/Chicago:20160509T190000
DTEND;TZID=America/Chicago:20160509T210000
DTSTAMP:20260422T111520
CREATED:20160503T203455Z
LAST-MODIFIED:20160503T205655Z
UID:19296-1462820400-1462827600@chicagocommunitygardens.org
SUMMARY:Green and Growing: A Speaker Series - Weird Vegetables
DESCRIPTION:Monday\, May 9 at 7pm –Weird Vegetables – Weird vegetables to grow and how to grow things weirdly!\nSpeaker: Amanda Thomsen\, author of Kiss My Aster: A Graphic Guide to Creating a Yard Totally Tailored to You
URL:https://chicagocommunitygardens.org/event/green-and-growing-a-speaker-series-weird-vegetables/
LOCATION:Sulzer Regional Library\, 4455 N Lincoln Ave\, Chicago\, IL\, 60625\, United States
ATTACH;FMTTYPE=image/jpeg:https://chicagocommunitygardens.org/wp-content/uploads/2016/05/Green-Growing_-A-Speaker-Series-presented-by-MMCG.no-background.jpg
ORGANIZER;CN="Montrose Metra Community Gardens":MAILTO:montrosemetragardens@gmail.com
END:VEVENT
BEGIN:VEVENT
DTSTART;TZID=America/Chicago:20160514T090000
DTEND;TZID=America/Chicago:20160514T120000
DTSTAMP:20260422T111520
CREATED:20160504T175801Z
LAST-MODIFIED:20160504T175801Z
UID:19313-1463216400-1463227200@chicagocommunitygardens.org
SUMMARY:Building Healthy Soil
DESCRIPTION:Learn about composting\, vermicomposting\, cover cropping\, and other soil-building techniques. This workshop will cover soil testing and pH for vegetable crops. Healthy soil is the key to healthy plants! This workshop is instructed by Joan Hopkins\, 2007 Windy City Harvest graduate and Windy City Harvest Corps Coordinator. \nSaturday\, May 14th\, 2016 9 a.m. – noon Arturo Velasquez Institute Greenhouse Register Online – http://www.chicagobotanic.org/education/windy_city_harvest
URL:https://chicagocommunitygardens.org/event/building-healthy-soil/
LOCATION:Arturo Velasquez Institute Greenhouse\, 2800 S Western Ave \, Chicago\, IL\, 60608\, United States
CATEGORIES:Workshop/Lecture
END:VEVENT
BEGIN:VEVENT
DTSTART;TZID=America/Chicago:20160514T100000
DTEND;TZID=America/Chicago:20160514T140000
DTSTAMP:20260422T111520
CREATED:20160511T170453Z
LAST-MODIFIED:20160511T170453Z
UID:19375-1463220000-1463234400@chicagocommunitygardens.org
SUMMARY:DÍA DE SIEMBRA /PLANTING DAY at El Paseo
DESCRIPTION:Si llueve sera el próximo día Domingo 15 de Mayo \nIf it rains we will reschedule for the next day\, Sunday May 15th \n• Limpiar/ Clean-up \n• Sembrar cajas compartidas/Plant shared beds \n• Formar equipos para / Make teams for shared  \n• Convivo /Pot-Luck \nTraigan un platillo para compartir! / Bring a dish to share! \nEl PASEO  \nCOMMUNITY GARDEN \n(773) 234-6168
URL:https://chicagocommunitygardens.org/event/dia-de-siembra-planting-day-at-el-paseo/
LOCATION:El Paseo Community Garden\, 966 W. 21st St\, Chicago\, IL\, United States
CATEGORIES:Workday
ATTACH;FMTTYPE=image/png:https://chicagocommunitygardens.org/wp-content/uploads/2016/05/el-paseo-dia-de-siembra.png
ORGANIZER;CN="El Paseo Garden":MAILTO: elpaseo.communitygarden@neighbor-space.org
END:VEVENT
BEGIN:VEVENT
DTSTART;TZID=America/Chicago:20160518T190000
DTEND;TZID=America/Chicago:20160518T210000
DTSTAMP:20260422T111520
CREATED:20160503T203455Z
LAST-MODIFIED:20160503T205405Z
UID:19302-1463598000-1463605200@chicagocommunitygardens.org
SUMMARY:Green and Growing: A Speaker Series - Perennials\, The Economizers of the Edible Landscape
DESCRIPTION:Wednesday\, May 18 at 7pm – Perennials\, The Economizers of the Edible Landscape\nSpeaker: Lisa Hilgenberg\, horitculturalist for the Chicago Botanic Garden’s Regenstein Fruit & Vegetable Garden
URL:https://chicagocommunitygardens.org/event/green-and-growing-a-speaker-series-weird-vegetables-2016-06-09/
LOCATION:IL
ATTACH;FMTTYPE=image/jpeg:https://chicagocommunitygardens.org/wp-content/uploads/2016/05/Green-Growing_-A-Speaker-Series-presented-by-MMCG.no-background.jpg
ORGANIZER;CN="Montrose Metra Community Gardens":MAILTO:montrosemetragardens@gmail.com
END:VEVENT
END:VCALENDAR