BEGIN:VCALENDAR
VERSION:2.0
PRODID:-//Chicago Community Gardeners Association - ECPv6.15.16//NONSGML v1.0//EN
CALSCALE:GREGORIAN
METHOD:PUBLISH
X-ORIGINAL-URL:https://chicagocommunitygardens.org
X-WR-CALDESC:Events for Chicago Community Gardeners Association
REFRESH-INTERVAL;VALUE=DURATION:PT1H
X-Robots-Tag:noindex
X-PUBLISHED-TTL:PT1H
BEGIN:VTIMEZONE
TZID:America/Chicago
BEGIN:DAYLIGHT
TZOFFSETFROM:-0600
TZOFFSETTO:-0500
TZNAME:CDT
DTSTART:20150308T080000
END:DAYLIGHT
BEGIN:STANDARD
TZOFFSETFROM:-0500
TZOFFSETTO:-0600
TZNAME:CST
DTSTART:20151101T070000
END:STANDARD
BEGIN:DAYLIGHT
TZOFFSETFROM:-0600
TZOFFSETTO:-0500
TZNAME:CDT
DTSTART:20160313T080000
END:DAYLIGHT
BEGIN:STANDARD
TZOFFSETFROM:-0500
TZOFFSETTO:-0600
TZNAME:CST
DTSTART:20161106T070000
END:STANDARD
BEGIN:DAYLIGHT
TZOFFSETFROM:-0600
TZOFFSETTO:-0500
TZNAME:CDT
DTSTART:20170312T080000
END:DAYLIGHT
BEGIN:STANDARD
TZOFFSETFROM:-0500
TZOFFSETTO:-0600
TZNAME:CST
DTSTART:20171105T070000
END:STANDARD
END:VTIMEZONE
BEGIN:VEVENT
DTSTART;TZID=America/Chicago:20160409T100000
DTEND;TZID=America/Chicago:20160409T113000
DTSTAMP:20260422T144932
CREATED:20160407T164328Z
LAST-MODIFIED:20160407T164517Z
UID:19168-1460196000-1460201400@chicagocommunitygardens.org
SUMMARY:History of Community Gardens
DESCRIPTION:Join us for this weekend’s event on April 9th from 10-11:30/12. Please come out and listen to an educational talk about the History of Community Gardens by Freyja Conrad. It should be a great talk and will hopefully help gear you up by becoming apart of that social history.
URL:https://chicagocommunitygardens.org/event/history-of-community-gardens/
LOCATION:Kilbourn Park Organic Greenhouse\, 3501 N. Kilbourn\, Chicago\, IL\, 60641\, United States
ATTACH;FMTTYPE=image/jpeg:https://chicagocommunitygardens.org/wp-content/uploads/2016/04/History-of-Comm.-Gardens.jpg
END:VEVENT
END:VCALENDAR