BEGIN:VCALENDAR
VERSION:2.0
PRODID:-//Chicago Community Gardeners Association - ECPv6.15.16//NONSGML v1.0//EN
CALSCALE:GREGORIAN
METHOD:PUBLISH
X-WR-CALNAME:Chicago Community Gardeners Association
X-ORIGINAL-URL:https://chicagocommunitygardens.org
X-WR-CALDESC:Events for Chicago Community Gardeners Association
REFRESH-INTERVAL;VALUE=DURATION:PT1H
X-Robots-Tag:noindex
X-PUBLISHED-TTL:PT1H
BEGIN:VTIMEZONE
TZID:America/Chicago
BEGIN:DAYLIGHT
TZOFFSETFROM:-0600
TZOFFSETTO:-0500
TZNAME:CDT
DTSTART:20130310T080000
END:DAYLIGHT
BEGIN:STANDARD
TZOFFSETFROM:-0500
TZOFFSETTO:-0600
TZNAME:CST
DTSTART:20131103T070000
END:STANDARD
BEGIN:DAYLIGHT
TZOFFSETFROM:-0600
TZOFFSETTO:-0500
TZNAME:CDT
DTSTART:20140309T080000
END:DAYLIGHT
BEGIN:STANDARD
TZOFFSETFROM:-0500
TZOFFSETTO:-0600
TZNAME:CST
DTSTART:20141102T070000
END:STANDARD
BEGIN:DAYLIGHT
TZOFFSETFROM:-0600
TZOFFSETTO:-0500
TZNAME:CDT
DTSTART:20150308T080000
END:DAYLIGHT
BEGIN:STANDARD
TZOFFSETFROM:-0500
TZOFFSETTO:-0600
TZNAME:CST
DTSTART:20151101T070000
END:STANDARD
END:VTIMEZONE
BEGIN:VEVENT
DTSTART;TZID=America/Chicago:20141108T133000
DTEND;TZID=America/Chicago:20141108T163000
DTSTAMP:20260421T040954
CREATED:20141024T180747Z
LAST-MODIFIED:20141024T182522Z
UID:13816-1415453400-1415464200@chicagocommunitygardens.org
SUMMARY:Basic Backyard Chicken Care
DESCRIPTION:Offered by Angelic Organics Learning Center and taught by Home to Roost Urban Chicken Consultant Jen Murtoff\, who calls it “the Cadillac of backyard chicken workshops.”  \nRegistration
URL:https://chicagocommunitygardens.org/event/basic-backyard-chicken-care/
LOCATION:Irving Park United Methodist Church\, 3801 N Keeler Ave\, Chicago\, IL\, 60641\, United States
CATEGORIES:Workshop/Lecture
ATTACH;FMTTYPE=image/jpeg:https://chicagocommunitygardens.org/wp-content/uploads/2014/10/chicken_1.jpg
END:VEVENT
BEGIN:VEVENT
DTSTART;TZID=America/Chicago:20141113T180000
DTEND;TZID=America/Chicago:20141113T203000
DTSTAMP:20260421T040954
CREATED:20141024T182146Z
LAST-MODIFIED:20141024T182254Z
UID:13820-1415901600-1415910600@chicagocommunitygardens.org
SUMMARY:Urban Chicken Health Care
DESCRIPTION:Developed and taught by Home to Roost Urban Chicken Consultant Jen Murtoff\, the workshop will cover prevention\, basic troubleshooting\, and care for common chicken health issues and injuries. \nPlease note that this is an advanced workshop for chicken keepers who are already experienced in basic care\, and who want to advance their knowledge and skills.  \nRegistration
URL:https://chicagocommunitygardens.org/event/urban-chicken-health-care/
LOCATION:Irving Park United Methodist Church\, 3801 N Keeler Ave\, Chicago\, IL\, 60641\, United States
CATEGORIES:Workshop/Lecture
ATTACH;FMTTYPE=image/jpeg:https://chicagocommunitygardens.org/wp-content/uploads/2014/10/chicken_innards.jpg
END:VEVENT
END:VCALENDAR