BEGIN:VCALENDAR
VERSION:2.0
PRODID:-//Chicago Community Gardeners Association - ECPv6.15.16//NONSGML v1.0//EN
CALSCALE:GREGORIAN
METHOD:PUBLISH
X-WR-CALNAME:Chicago Community Gardeners Association
X-ORIGINAL-URL:https://chicagocommunitygardens.org
X-WR-CALDESC:Events for Chicago Community Gardeners Association
REFRESH-INTERVAL;VALUE=DURATION:PT1H
X-Robots-Tag:noindex
X-PUBLISHED-TTL:PT1H
BEGIN:VTIMEZONE
TZID:America/Chicago
BEGIN:DAYLIGHT
TZOFFSETFROM:-0600
TZOFFSETTO:-0500
TZNAME:CDT
DTSTART:20150308T080000
END:DAYLIGHT
BEGIN:STANDARD
TZOFFSETFROM:-0500
TZOFFSETTO:-0600
TZNAME:CST
DTSTART:20151101T070000
END:STANDARD
BEGIN:DAYLIGHT
TZOFFSETFROM:-0600
TZOFFSETTO:-0500
TZNAME:CDT
DTSTART:20160313T080000
END:DAYLIGHT
BEGIN:STANDARD
TZOFFSETFROM:-0500
TZOFFSETTO:-0600
TZNAME:CST
DTSTART:20161106T070000
END:STANDARD
BEGIN:DAYLIGHT
TZOFFSETFROM:-0600
TZOFFSETTO:-0500
TZNAME:CDT
DTSTART:20170312T080000
END:DAYLIGHT
BEGIN:STANDARD
TZOFFSETFROM:-0500
TZOFFSETTO:-0600
TZNAME:CST
DTSTART:20171105T070000
END:STANDARD
END:VTIMEZONE
BEGIN:VEVENT
DTSTART;TZID=America/Chicago:20160716T100000
DTEND;TZID=America/Chicago:20160716T120000
DTSTAMP:20260422T181455
CREATED:20160714T155544Z
LAST-MODIFIED:20160714T155544Z
UID:19501-1468663200-1468670400@chicagocommunitygardens.org
SUMMARY:preSERVE Garden Volunteer Day
DESCRIPTION:Join us for a weekend volunteer day this July at the preSERVE garden in North Lawndale (a partnership between Slow Food Chicago\, the Chicago Honey Co-Op\, the North Lawndale Greening Committee\, and Neighborspace). \nGather with us in the garden to get your hands a little dirty and then reap the benefits of that sweat equity via a community meal with your fellow volunteers afterwards. \nPlease bring gardening gloves and a hat if you have them. Email slowfoodpreserve@gmail.com with questions and to RSVP. Hope to see you in the garden!
URL:https://chicagocommunitygardens.org/event/preserve-garden-volunteer-day/
LOCATION:preSERVE Garden\, 1231 S. Central Park Ave\, Chicago\, IL\, United States
CATEGORIES:Volunteer Opp.,Workday
ATTACH;FMTTYPE=image/png:https://chicagocommunitygardens.org/wp-content/uploads/2016/07/Screen-Shot-2016-07-12-at-8.49.54-PM.png
ORGANIZER;CN="Slow Food Chicago":MAILTO:info@slowfoodchicago.org
END:VEVENT
END:VCALENDAR